Workbook

Sheet Game Entry
A2: START HERE — ADDING GAMES & PLAYERS | B2: START HERE — ADDING GAMES & PLAYERS | C2: START HERE — ADDING GAMES & PLAYERS | D2: START HERE — ADDING GAMES & PLAYERS | E2: START HERE — ADDING GAMES & PLAYERS | F2: START HERE — ADDING GAMES & PLAYERS | G2: START HERE — ADDING GAMES & PLAYERS | H2: START HERE — ADDING GAMES & PLAYERS
A4: Use the three yellow tabs. Reports update automatically when you add rows. | B4: Use the three yellow tabs. Reports update automatically when you add rows. | C4: Use the three yellow tabs. Reports update automatically when you add rows. | D4: Use the three yellow tabs. Reports update automatically when you add rows. | E4: Use the three yellow tabs. Reports update automatically when you add rows. | F4: Use the three yellow tabs. Reports update automatically when you add rows. | G4: Use the three yellow tabs. Reports update automatically when you add rows. | H4: Use the three yellow tabs. Reports update automatically when you add rows.
A6: 1 | B6: Add the game on Add Games
A7: 2 | B7: If needed, add new names on Player Directory
A8: 3 | B8: Add one row per player on Add Players
A9: ✓ | B9: Review Game Summary, All-Time Games, and Goalie Matrix
A12: Yellow-highlighted blank rows show where to enter the next record. | B12: Yellow-highlighted blank rows show where to enter the next record. | C12: Yellow-highlighted blank rows show where to enter the next record. | D12: Yellow-highlighted blank rows show where to enter the next record. | E12: Yellow-highlighted blank rows show where to enter the next record. | F12: Yellow-highlighted blank rows show where to enter the next record. | G12: Yellow-highlighted blank rows show where to enter the next record. | H12: Yellow-highlighted blank rows show where to enter the next record.

Sheet Game Summary
A2: Black vs. Gray / Yellow — Game Summary
A3: Updates from the Games table on the Game Entry tab.
A5: Date | B5: Arena / Location | C5: Final Score | D5: Player Assignments | E5: Notes | F5: Game ID
A6: =IF('Add Games'!$A6="","",'Add Games'!$B6) -> 41685 | B6: =IF('Add Games'!$A6="","",'Add Games'!$C6) -> Van Andel Arena | C6: =IF('Add Games'!$A6="","",'Add Games'!$D6) -> MOS 8, Phantoms 6 | D6: =IF('Add Games'!$A6="","",COUNTIFS('Add Players'!$A$6:$G$1505,'Add Games'!$A6)) -> 16 | E6: =IF('Add Games'!$A6="","",IFERROR('Add Games'!$E6,"")) -> 0 | F6: =IF('Add Games'!$A6="","",'Add Games'!$A6) -> G001
A7: =IF('Add Games'!$A7="","",'Add Games'!$B7) -> 42077 | B7: =IF('Add Games'!$A7="","",'Add Games'!$C7) -> Van Andel Arena | C7: =IF('Add Games'!$A7="","",'Add Games'!$D7) -> Relay for Life 1, Phantoms 0 | D7: =IF('Add Games'!$A7="","",COUNTIFS('Add Players'!$A$6:$G$1505,'Add Games'!$A7)) -> 16 | E7: =IF('Add Games'!$A7="","",IFERROR('Add Games'!$E7,"")) -> 0 | F7: =IF('Add Games'!$A7="","",'Add Games'!$A7) -> G002
A8: =IF('Add Games'!$A8="","",'Add Games'!$B8) -> 42112 | B8: =IF('Add Games'!$A8="","",'Add Games'!$C8) -> Van Andel Arena | C8: =IF('Add Games'!$A8="","",'Add Games'!$D8) -> Phantoms 8, MOS 6 | D8: =IF('Add Games'!$A8="","",COUNTIFS('Add Players'!$A$6:$G$1505,'Add Games'!$A8)) -> 17 | E8: =IF('Add Games'!$A8="","",IFERROR('Add Games'!$E8,"")) -> 0 | F8: =IF('Add Games'!$A8="","",'Add Games'!$A8) -> G003
A9: =IF('Add Games'!$A9="","",'Add Games'!$B9) -> 42455 | B9: =IF('Add Games'!$A9="","",'Add Games'!$C9) -> Van Andel Arena | C9: =IF('Add Games'!$A9="","",'Add Games'!$D9) -> MOS 8, Phantoms 3 | D9: =IF('Add Games'!$A9="","",COUNTIFS('Add Players'!$A$6:$G$1505,'Add Games'!$A9)) -> 15 | E9: =IF('Add Games'!$A9="","",IFERROR('Add Games'!$E9,"")) -> 0 | F9: =IF('Add Games'!$A9="","",'Add Games'!$A9) -> G004
A10: =IF('Add Games'!$A10="","",'Add Games'!$B10) -> 42707.5 | B10: =IF('Add Games'!$A10="","",'Add Games'!$C10) -> Joe Louis Arena | C10: =IF('Add Games'!$A10="","",'Add Games'!$D10) -> PHA 6, Gong Show 4 | D10: =IF('Add Games'!$A10="","",COUNTIFS('Add Players'!$A$6:$G$1505,'Add Games'!$A10)) -> 32 | E10: =IF('Add Games'!$A10="","",IFERROR('Add Games'!$E10,"")) -> 0 | F10: =IF('Add Games'!$A10="","",'Add Games'!$A10) -> G005
A11: =IF('Add Games'!$A11="","",'Add Games'!$B11) -> 42854.5 | B11: =IF('Add Games'!$A11="","",'Add Games'!$C11) -> Joe Louis Arena | C11: =IF('Add Games'!$A11="","",'Add Games'!$D11) -> Black 5, Yellow 3 | D11: =IF('Add Games'!$A11="","",COUNTIFS('Add Players'!$A$6:$G$1505,'Add Games'!$A11)) -> 31 | E11: =IF('Add Games'!$A11="","",IFERROR('Add Games'!$E11,"")) -> 0 | F11: =IF('Add Games'!$A11="","",'Add Games'!$A11) -> G006
A12: =IF('Add Games'!$A12="","",'Add Games'!$B12) -> 43162.5 | B12: =IF('Add Games'!$A12="","",'Add Games'!$C12) -> L.C. Walker Arena | C12: =IF('Add Games'!$A12="","",'Add Games'!$D12) -> Black 4, Yellow 2 | D12: =IF('Add Games'!$A12="","",COUNTIFS('Add Players'!$A$6:$G$1505,'Add Games'!$A12)) -> 26 | E12: =IF('Add Games'!$A12="","",IFERROR('Add Games'!$E12,"")) -> 0 | F12: =IF('Add Games'!$A12="","",'Add Games'!$A12) -> G007
A13: =IF('Add Games'!$A13="","",'Add Games'!$B13) -> 43190.5 | B13: =IF('Add Games'!$A13="","",'Add Games'!$C13) -> Wings Practice | C13: =IF('Add Games'!$A13="","",'Add Games'!$D13) -> Yellow 7, Black 4 | D13: =IF('Add Games'!$A13="","",COUNTIFS('Add Players'!$A$6:$G$1505,'Add Games'!$A13)) -> 22 | E13: =IF('Add Games'!$A13="","",IFERROR('Add Games'!$E13,"")) -> 0 | F13: =IF('Add Games'!$A13="","",'Add Games'!$A13) -> G008
A14: =IF('Add Games'!$A14="","",'Add Games'!$B14) -> 43197.5 | B14: =IF('Add Games'!$A14="","",'Add Games'!$C14) -> Wings Practice | C14: =IF('Add Games'!$A14="","",'Add Games'!$D14) -> Black 6, Yellow 4 | D14: =IF('Add Games'!$A14="","",COUNTIFS('Add Players'!$A$6:$G$1505,'Add Games'!$A14)) -> 20 | E14: =IF('Add Games'!$A14="","",IFERROR('Add Games'!$E14,"")) -> 0 | F14: =IF('Add Games'!$A14="","",'Add Games'!$A14) -> G009
A15: =IF('Add Games'!$A15="","",'Add Games'!$B15) -> 43540.5 | B15: =IF('Add Games'!$A15="","",'Add Games'!$C15) -> Walker Arena | C15: =IF('Add Games'!$A15="","",'Add Games'!$D15) -> Black defeats Yellow | D15: =IF('Add Games'!$A15="","",COUNTIFS('Add Players'!$A$6:$G$1505,'Add Games'!$A15)) -> 22 | E15: =IF('Add Games'!$A15="","",IFERROR('Add Games'!$E15,"")) -> 0 | F15: =IF('Add Games'!$A15="","",'Add Games'!$A15) -> G010
A16: =IF('Add Games'!$A16="","",'Add Games'!$B16) -> 43751.5 | B16: =IF('Add Games'!$A16="","",'Add Games'!$C16) -> Little Caesars Arena | C16: =IF('Add Games'!$A16="","",'Add Games'!$D16) -> Gray 7, Black 5 | D16: =IF('Add Games'!$A16="","",COUNTIFS('Add Players'!$A$6:$G$1505,'Add Games'!$A16)) -> 25 | E16: =IF('Add Games'!$A16="","",IFERROR('Add Games'!$E16,"")) -> 0 | F16: =IF('Add Games'!$A16="","",'Add Games'!$A16) -> G011
A17: =IF('Add Games'!$A17="","",'Add Games'!$B17) -> 43869.5 | B17: =IF('Add Games'!$A17="","",'Add Games'!$C17) -> Wings Stadium | C17: =IF('Add Games'!$A17="","",'Add Games'!$D17) -> Gray defeats Black | D17: =IF('Add Games'!$A17="","",COUNTIFS('Add Players'!$A$6:$G$1505,'Add Games'!$A17)) -> 25 | E17: =IF('Add Games'!$A17="","",IFERROR('Add Games'!$E17,"")) -> 0 | F17: =IF('Add Games'!$A17="","",'Add Games'!$A17) -> G012
... A45: =IF('Add Games'!$A45="","",'Add Games'!$B45) | B45: =IF('Add Games'!$A45="","",'Add Games'!$C45) | C45: =IF('Add Games'!$A45="","",'Add Games'!$D45) | D45: =IF('Add Games'!$A45="","",COUNTIFS('Add Players'!$A$6:$G$1505,'Add Games'!$A45)) | E45: =IF('Add Games'!$A45="","",IFERROR('Add Games'!$E45,"")) | F45: =IF('Add Games'!$A45="","",'Add Games'!$A45)

Sheet Assignment List
A2: Individual Goalie Assignments
A3: Updates automatically from the Player Assignments table on the Game Entry tab.
A5: Game ID | B5: Player | C5: Goalie Selection
A6: {=_xlfn._xlws.FILTER('Add Players'!$A$6:$I$1505,'Add Players'!$A$6:$G$1505<>"","")} -> #NAME? | B6: #NAME? | C6: #NAME? | D6: #NAME? | E6: #NAME? | F6: #NAME? | G6: #NAME? | H6: #NAME? | I6: #NAME?
A7: #NAME? | B7: #NAME? | C7: #NAME? | D7: #NAME? | E7: #NAME? | F7: #NAME? | G7: #NAME? | H7: #NAME? | I7: #NAME?
A8: #NAME? | B8: #NAME? | C8: #NAME? | D8: #NAME? | E8: #NAME? | F8: #NAME? | G8: #NAME? | H8: #NAME? | I8: #NAME?
A9: #NAME? | B9: #NAME? | C9: #NAME? | D9: #NAME? | E9: #NAME? | F9: #NAME? | G9: #NAME? | H9: #NAME? | I9: #NAME?
A10: #NAME? | B10: #NAME? | C10: #NAME? | D10: #NAME? | E10: #NAME? | F10: #NAME? | G10: #NAME? | H10: #NAME? | I10: #NAME?
A11: #NAME? | B11: #NAME? | C11: #NAME? | D11: #NAME? | E11: #NAME? | F11: #NAME? | G11: #NAME? | H11: #NAME? | I11: #NAME?
A12: #NAME? | B12: #NAME? | C12: #NAME? | D12: #NAME? | E12: #NAME? | F12: #NAME? | G12: #NAME? | H12: #NAME? | I12: #NAME?
A13: #NAME? | B13: #NAME? | C13: #NAME? | D13: #NAME? | E13: #NAME? | F13: #NAME? | G13: #NAME? | H13: #NAME? | I13: #NAME?
A14: #NAME? | B14: #NAME? | C14: #NAME? | D14: #NAME? | E14: #NAME? | F14: #NAME? | G14: #NAME? | H14: #NAME? | I14: #NAME?
A15: #NAME? | B15: #NAME? | C15: #NAME? | D15: #NAME? | E15: #NAME? | F15: #NAME? | G15: #NAME? | H15: #NAME? | I15: #NAME?
A16: #NAME? | B16: #NAME? | C16: #NAME? | D16: #NAME? | E16: #NAME? | F16: #NAME? | G16: #NAME? | H16: #NAME? | I16: #NAME?
A17: #NAME? | B17: #NAME? | C17: #NAME? | D17: #NAME? | E17: #NAME? | F17: #NAME? | G17: #NAME? | H17: #NAME? | I17: #NAME?
A18: #NAME? | B18: #NAME? | C18: #NAME? | D18: #NAME? | E18: #NAME? | F18: #NAME? | G18: #NAME? | H18: #NAME? | I18: #NAME?
... A863: #NAME? | B863: #NAME? | C863: #NAME? | D863: #NAME? | E863: #NAME? | F863: #NAME? | G863: #NAME? | H863: #NAME? | I863: #NAME?

Sheet All-Time Games
A2: All-Time Black vs. Gray / Yellow Games Played
A3: Totals and ranks update automatically; sort the Rank column to reorder after new games.
A5: Rank | B5: Player | C5: Games Played | D5: Share of All Games | E5: Goalie Name(s)
A6: =IF(B6="","",1+COUNTIFS($C$6:$C$225,">"&C6)) -> 1 | B6: =IF('Player Directory'!$A217="","",'Player Directory'!$A217) -> Wootton, Kevin | C6: =IF(B6="","",COUNTIFS('Add Players'!$B$6:$H$1505,B6)) -> 32 | D6: =IF(B6="","",IF(COUNTA('Add Games'!$A$6:$A$45)=0,"",C6/COUNTA('Add Games'!$A$6:$A$45))) -> 1 | E6: =IF(B6="","",_xlfn.TEXTJOIN(", ",TRUE,_xlfn._xlws.UNIQUE(_xlfn._xlws.FILTER('Add Players'!$C$6:$I$1505,'Add Players'!$B$6:$H$1505=B6,"")))) -> #NAME?
A7: =IF(B7="","",1+COUNTIFS($C$6:$C$225,">"&C7)) -> 2 | B7: =IF('Player Directory'!$A110="","",'Player Directory'!$A110) -> Kik, Trent | C7: =IF(B7="","",COUNTIFS('Add Players'!$B$6:$H$1505,B7)) -> 26 | D7: =IF(B7="","",IF(COUNTA('Add Games'!$A$6:$A$45)=0,"",C7/COUNTA('Add Games'!$A$6:$A$45))) -> 0.8125 | E7: =IF(B7="","",_xlfn.TEXTJOIN(", ",TRUE,_xlfn._xlws.UNIQUE(_xlfn._xlws.FILTER('Add Players'!$C$6:$I$1505,'Add Players'!$B$6:$H$1505=B7,"")))) -> #NAME?
A8: =IF(B8="","",1+COUNTIFS($C$6:$C$225,">"&C8)) -> 3 | B8: =IF('Player Directory'!$A117="","",'Player Directory'!$A117) -> Laux, Chris | C8: =IF(B8="","",COUNTIFS('Add Players'!$B$6:$H$1505,B8)) -> 22 | D8: =IF(B8="","",IF(COUNTA('Add Games'!$A$6:$A$45)=0,"",C8/COUNTA('Add Games'!$A$6:$A$45))) -> 0.6875 | E8: =IF(B8="","",_xlfn.TEXTJOIN(", ",TRUE,_xlfn._xlws.UNIQUE(_xlfn._xlws.FILTER('Add Players'!$C$6:$I$1505,'Add Players'!$B$6:$H$1505=B8,"")))) -> #NAME?
A9: =IF(B9="","",1+COUNTIFS($C$6:$C$225,">"&C9)) -> 3 | B9: =IF('Player Directory'!$A225="","",'Player Directory'!$A225) -> Zehr, Matt | C9: =IF(B9="","",COUNTIFS('Add Players'!$B$6:$H$1505,B9)) -> 22 | D9: =IF(B9="","",IF(COUNTA('Add Games'!$A$6:$A$45)=0,"",C9/COUNTA('Add Games'!$A$6:$A$45))) -> 0.6875 | E9: =IF(B9="","",_xlfn.TEXTJOIN(", ",TRUE,_xlfn._xlws.UNIQUE(_xlfn._xlws.FILTER('Add Players'!$C$6:$I$1505,'Add Players'!$B$6:$H$1505=B9,"")))) -> #NAME?
A10: =IF(B10="","",1+COUNTIFS($C$6:$C$225,">"&C10)) -> 5 | B10: =IF('Player Directory'!$A224="","",'Player Directory'!$A224) -> Zehr, Brad | C10: =IF(B10="","",COUNTIFS('Add Players'!$B$6:$H$1505,B10)) -> 21 | D10: =IF(B10="","",IF(COUNTA('Add Games'!$A$6:$A$45)=0,"",C10/COUNTA('Add Games'!$A$6:$A$45))) -> 0.65625 | E10: =IF(B10="","",_xlfn.TEXTJOIN(", ",TRUE,_xlfn._xlws.UNIQUE(_xlfn._xlws.FILTER('Add Players'!$C$6:$I$1505,'Add Players'!$B$6:$H$1505=B10,"")))) -> #NAME?
A11: =IF(B11="","",1+COUNTIFS($C$6:$C$225,">"&C11)) -> 6 | B11: =IF('Player Directory'!$A141="","",'Player Directory'!$A141) -> Moorman, Keith | C11: =IF(B11="","",COUNTIFS('Add Players'!$B$6:$H$1505,B11)) -> 19 | D11: =IF(B11="","",IF(COUNTA('Add Games'!$A$6:$A$45)=0,"",C11/COUNTA('Add Games'!$A$6:$A$45))) -> 0.59375 | E11: =IF(B11="","",_xlfn.TEXTJOIN(", ",TRUE,_xlfn._xlws.UNIQUE(_xlfn._xlws.FILTER('Add Players'!$C$6:$I$1505,'Add Players'!$B$6:$H$1505=B11,"")))) -> #NAME?
A12: =IF(B12="","",1+COUNTIFS($C$6:$C$225,">"&C12)) -> 7 | B12: =IF('Player Directory'!$A157="","",'Player Directory'!$A157) -> Porczynski, Adam | C12: =IF(B12="","",COUNTIFS('Add Players'!$B$6:$H$1505,B12)) -> 17 | D12: =IF(B12="","",IF(COUNTA('Add Games'!$A$6:$A$45)=0,"",C12/COUNTA('Add Games'!$A$6:$A$45))) -> 0.53125 | E12: =IF(B12="","",_xlfn.TEXTJOIN(", ",TRUE,_xlfn._xlws.UNIQUE(_xlfn._xlws.FILTER('Add Players'!$C$6:$I$1505,'Add Players'!$B$6:$H$1505=B12,"")))) -> #NAME?
A13: =IF(B13="","",1+COUNTIFS($C$6:$C$225,">"&C13)) -> 8 | B13: =IF('Player Directory'!$A179="","",'Player Directory'!$A179) -> Skoboda, Nate | C13: =IF(B13="","",COUNTIFS('Add Players'!$B$6:$H$1505,B13)) -> 16 | D13: =IF(B13="","",IF(COUNTA('Add Games'!$A$6:$A$45)=0,"",C13/COUNTA('Add Games'!$A$6:$A$45))) -> 0.5 | E13: =IF(B13="","",_xlfn.TEXTJOIN(", ",TRUE,_xlfn._xlws.UNIQUE(_xlfn._xlws.FILTER('Add Players'!$C$6:$I$1505,'Add Players'!$B$6:$H$1505=B13,"")))) -> #NAME?
A14: =IF(B14="","",1+COUNTIFS($C$6:$C$225,">"&C14)) -> 8 | B14: =IF('Player Directory'!$A62="","",'Player Directory'!$A62) -> Evans, Marshal | C14: =IF(B14="","",COUNTIFS('Add Players'!$B$6:$H$1505,B14)) -> 16 | D14: =IF(B14="","",IF(COUNTA('Add Games'!$A$6:$A$45)=0,"",C14/COUNTA('Add Games'!$A$6:$A$45))) -> 0.5 | E14: =IF(B14="","",_xlfn.TEXTJOIN(", ",TRUE,_xlfn._xlws.UNIQUE(_xlfn._xlws.FILTER('Add Players'!$C$6:$I$1505,'Add Players'!$B$6:$H$1505=B14,"")))) -> #NAME?
A15: =IF(B15="","",1+COUNTIFS($C$6:$C$225,">"&C15)) -> 10 | B15: =IF('Player Directory'!$A153="","",'Player Directory'!$A153) -> Page, Andrew | C15: =IF(B15="","",COUNTIFS('Add Players'!$B$6:$H$1505,B15)) -> 15 | D15: =IF(B15="","",IF(COUNTA('Add Games'!$A$6:$A$45)=0,"",C15/COUNTA('Add Games'!$A$6:$A$45))) -> 0.46875 | E15: =IF(B15="","",_xlfn.TEXTJOIN(", ",TRUE,_xlfn._xlws.UNIQUE(_xlfn._xlws.FILTER('Add Players'!$C$6:$I$1505,'Add Players'!$B$6:$H$1505=B15,"")))) -> #NAME?
A16: =IF(B16="","",1+COUNTIFS($C$6:$C$225,">"&C16)) -> 11 | B16: =IF('Player Directory'!$A61="","",'Player Directory'!$A61) -> Evans, Ian | C16: =IF(B16="","",COUNTIFS('Add Players'!$B$6:$H$1505,B16)) -> 14 | D16: =IF(B16="","",IF(COUNTA('Add Games'!$A$6:$A$45)=0,"",C16/COUNTA('Add Games'!$A$6:$A$45))) -> 0.4375 | E16: =IF(B16="","",_xlfn.TEXTJOIN(", ",TRUE,_xlfn._xlws.UNIQUE(_xlfn._xlws.FILTER('Add Players'!$C$6:$I$1505,'Add Players'!$B$6:$H$1505=B16,"")))) -> #NAME?
A17: =IF(B17="","",1+COUNTIFS($C$6:$C$225,">"&C17)) -> 11 | B17: =IF('Player Directory'!$A30="","",'Player Directory'!$A30) -> Carron, Kevin | C17: =IF(B17="","",COUNTIFS('Add Players'!$B$6:$H$1505,B17)) -> 14 | D17: =IF(B17="","",IF(COUNTA('Add Games'!$A$6:$A$45)=0,"",C17/COUNTA('Add Games'!$A$6:$A$45))) -> 0.4375 | E17: =IF(B17="","",_xlfn.TEXTJOIN(", ",TRUE,_xlfn._xlws.UNIQUE(_xlfn._xlws.FILTER('Add Players'!$C$6:$I$1505,'Add Players'!$B$6:$H$1505=B17,"")))) -> #NAME?
A18: =IF(B18="","",1+COUNTIFS($C$6:$C$225,">"&C18)) -> 13 | B18: =IF('Player Directory'!$A9="","",'Player Directory'!$A9) -> Alvarez, Ramsey (LLC) | C18: =IF(B18="","",COUNTIFS('Add Players'!$B$6:$H$1505,B18)) -> 13 | D18: =IF(B18="","",IF(COUNTA('Add Games'!$A$6:$A$45)=0,"",C18/COUNTA('Add Games'!$A$6:$A$45))) -> 0.40625 | E18: =IF(B18="","",_xlfn.TEXTJOIN(", ",TRUE,_xlfn._xlws.UNIQUE(_xlfn._xlws.FILTER('Add Players'!$C$6:$I$1505,'Add Players'!$B$6:$H$1505=B18,"")))) -> #NAME?
A19: =IF(B19="","",1+COUNTIFS($C$6:$C$225,">"&C19)) -> 13 | B19: =IF('Player Directory'!$A34="","",'Player Directory'!$A34) -> Clark, Kyle | C19: =IF(B19="","",COUNTIFS('Add Players'!$B$6:$H$1505,B19)) -> 13 | D19: =IF(B19="","",IF(COUNTA('Add Games'!$A$6:$A$45)=0,"",C19/COUNTA('Add Games'!$A$6:$A$45))) -> 0.40625 | E19: =IF(B19="","",_xlfn.TEXTJOIN(", ",TRUE,_xlfn._xlws.UNIQUE(_xlfn._xlws.FILTER('Add Players'!$C$6:$I$1505,'Add Players'!$B$6:$H$1505=B19,"")))) -> #NAME?
A20: =IF(B20="","",1+COUNTIFS($C$6:$C$225,">"&C20)) -> 13 | B20: =IF('Player Directory'!$A152="","",'Player Directory'!$A152) -> Padget, Mike | C20: =IF(B20="","",COUNTIFS('Add Players'!$B$6:$H$1505,B20)) -> 13 | D20: =IF(B20="","",IF(COUNTA('Add Games'!$A$6:$A$45)=0,"",C20/COUNTA('Add Games'!$A$6:$A$45))) -> 0.40625 | E20: =IF(B20="","",_xlfn.TEXTJOIN(", ",TRUE,_xlfn._xlws.UNIQUE(_xlfn._xlws.FILTER('Add Players'!$C$6:$I$1505,'Add Players'!$B$6:$H$1505=B20,"")))) -> #NAME?
A21: =IF(B21="","",1+COUNTIFS($C$6:$C$225,">"&C21)) -> 13 | B21: =IF('Player Directory'!$A41="","",'Player Directory'!$A41) -> DeBoer, Chris | C21: =IF(B21="","",COUNTIFS('Add Players'!$B$6:$H$1505,B21)) -> 13 | D21: =IF(B21="","",IF(COUNTA('Add Games'!$A$6:$A$45)=0,"",C21/COUNTA('Add Games'!$A$6:$A$45))) -> 0.40625 | E21: =IF(B21="","",_xlfn.TEXTJOIN(", ",TRUE,_xlfn._xlws.UNIQUE(_xlfn._xlws.FILTER('Add Players'!$C$6:$I$1505,'Add Players'!$B$6:$H$1505=B21,"")))) -> #NAME?
A22: =IF(B22="","",1+COUNTIFS($C$6:$C$225,">"&C22)) -> 13 | B22: =IF('Player Directory'!$A171="","",'Player Directory'!$A171) -> Schemmel, Zach | C22: =IF(B22="","",COUNTIFS('Add Players'!$B$6:$H$1505,B22)) -> 13 | D22: =IF(B22="","",IF(COUNTA('Add Games'!$A$6:$A$45)=0,"",C22/COUNTA('Add Games'!$A$6:$A$45))) -> 0.40625 | E22: =IF(B22="","",_xlfn.TEXTJOIN(", ",TRUE,_xlfn._xlws.UNIQUE(_xlfn._xlws.FILTER('Add Players'!$C$6:$I$1505,'Add Players'!$B$6:$H$1505=B22,"")))) -> #NAME?
A23: =IF(B23="","",1+COUNTIFS($C$6:$C$225,">"&C23)) -> 18 | B23: =IF('Player Directory'!$A58="","",'Player Directory'!$A58) -> Erickson, Andrew | C23: =IF(B23="","",COUNTIFS('Add Players'!$B$6:$H$1505,B23)) -> 12 | D23: =IF(B23="","",IF(COUNTA('Add Games'!$A$6:$A$45)=0,"",C23/COUNTA('Add Games'!$A$6:$A$45))) -> 0.375 | E23: =IF(B23="","",_xlfn.TEXTJOIN(", ",TRUE,_xlfn._xlws.UNIQUE(_xlfn._xlws.FILTER('Add Players'!$C$6:$I$1505,'Add Players'!$B$6:$H$1505=B23,"")))) -> #NAME?
A24: =IF(B24="","",1+COUNTIFS($C$6:$C$225,">"&C24)) -> 18 | B24: =IF('Player Directory'!$A128="","",'Player Directory'!$A128) -> Mackenzie, Mark | C24: =IF(B24="","",COUNTIFS('Add Players'!$B$6:$H$1505,B24)) -> 12 | D24: =IF(B24="","",IF(COUNTA('Add Games'!$A$6:$A$45)=0,"",C24/COUNTA('Add Games'!$A$6:$A$45))) -> 0.375 | E24: =IF(B24="","",_xlfn.TEXTJOIN(", ",TRUE,_xlfn._xlws.UNIQUE(_xlfn._xlws.FILTER('Add Players'!$C$6:$I$1505,'Add Players'!$B$6:$H$1505=B24,"")))) -> #NAME?
A25: =IF(B25="","",1+COUNTIFS($C$6:$C$225,">"&C25)) -> 18 | B25: =IF('Player Directory'!$A38="","",'Player Directory'!$A38) -> Datema, Dan | C25: =IF(B25="","",COUNTIFS('Add Players'!$B$6:$H$1505,B25)) -> 12 | D25: =IF(B25="","",IF(COUNTA('Add Games'!$A$6:$A$45)=0,"",C25/COUNTA('Add Games'!$A$6:$A$45))) -> 0.375 | E25: =IF(B25="","",_xlfn.TEXTJOIN(", ",TRUE,_xlfn._xlws.UNIQUE(_xlfn._xlws.FILTER('Add Players'!$C$6:$I$1505,'Add Players'!$B$6:$H$1505=B25,"")))) -> #NAME?
A26: =IF(B26="","",1+COUNTIFS($C$6:$C$225,">"&C26)) -> 21 | B26: =IF('Player Directory'!$A42="","",'Player Directory'!$A42) -> DeBoer, Shawn | C26: =IF(B26="","",COUNTIFS('Add Players'!$B$6:$H$1505,B26)) -> 11 | D26: =IF(B26="","",IF(COUNTA('Add Games'!$A$6:$A$45)=0,"",C26/COUNTA('Add Games'!$A$6:$A$45))) -> 0.34375 | E26: =IF(B26="","",_xlfn.TEXTJOIN(", ",TRUE,_xlfn._xlws.UNIQUE(_xlfn._xlws.FILTER('Add Players'!$C$6:$I$1505,'Add Players'!$B$6:$H$1505=B26,"")))) -> #NAME?
A27: =IF(B27="","",1+COUNTIFS($C$6:$C$225,">"&C27)) -> 21 | B27: =IF('Player Directory'!$A196="","",'Player Directory'!$A196) -> Tyler, Nate | C27: =IF(B27="","",COUNTIFS('Add Players'!$B$6:$H$1505,B27)) -> 11 | D27: =IF(B27="","",IF(COUNTA('Add Games'!$A$6:$A$45)=0,"",C27/COUNTA('Add Games'!$A$6:$A$45))) -> 0.34375 | E27: =IF(B27="","",_xlfn.TEXTJOIN(", ",TRUE,_xlfn._xlws.UNIQUE(_xlfn._xlws.FILTER('Add Players'!$C$6:$I$1505,'Add Players'!$B$6:$H$1505=B27,"")))) -> #NAME?
A28: =IF(B28="","",1+COUNTIFS($C$6:$C$225,">"&C28)) -> 23 | B28: =IF('Player Directory'!$A116="","",'Player Directory'!$A116) -> Laberdee, Ian | C28: =IF(B28="","",COUNTIFS('Add Players'!$B$6:$H$1505,B28)) -> 10 | D28: =IF(B28="","",IF(COUNTA('Add Games'!$A$6:$A$45)=0,"",C28/COUNTA('Add Games'!$A$6:$A$45))) -> 0.3125 | E28: =IF(B28="","",_xlfn.TEXTJOIN(", ",TRUE,_xlfn._xlws.UNIQUE(_xlfn._xlws.FILTER('Add Players'!$C$6:$I$1505,'Add Players'!$B$6:$H$1505=B28,"")))) -> #NAME?
A29: =IF(B29="","",1+COUNTIFS($C$6:$C$225,">"&C29)) -> 23 | B29: =IF('Player Directory'!$A10="","",'Player Directory'!$A10) -> Anderson, Austin | C29: =IF(B29="","",COUNTIFS('Add Players'!$B$6:$H$1505,B29)) -> 10 | D29: =IF(B29="","",IF(COUNTA('Add Games'!$A$6:$A$45)=0,"",C29/COUNTA('Add Games'!$A$6:$A$45))) -> 0.3125 | E29: =IF(B29="","",_xlfn.TEXTJOIN(", ",TRUE,_xlfn._xlws.UNIQUE(_xlfn._xlws.FILTER('Add Players'!$C$6:$I$1505,'Add Players'!$B$6:$H$1505=B29,"")))) -> #NAME?
A30: =IF(B30="","",1+COUNTIFS($C$6:$C$225,">"&C30)) -> 23 | B30: =IF('Player Directory'!$A16="","",'Player Directory'!$A16) -> Barber, Ryker | C30: =IF(B30="","",COUNTIFS('Add Players'!$B$6:$H$1505,B30)) -> 10 | D30: =IF(B30="","",IF(COUNTA('Add Games'!$A$6:$A$45)=0,"",C30/COUNTA('Add Games'!$A$6:$A$45))) -> 0.3125 | E30: =IF(B30="","",_xlfn.TEXTJOIN(", ",TRUE,_xlfn._xlws.UNIQUE(_xlfn._xlws.FILTER('Add Players'!$C$6:$I$1505,'Add Players'!$B$6:$H$1505=B30,"")))) -> #NAME?
A31: =IF(B31="","",1+COUNTIFS($C$6:$C$225,">"&C31)) -> 23 | B31: =IF('Player Directory'!$A148="","",'Player Directory'!$A148) -> Norkus, Andrew (LLC) | C31: =IF(B31="","",COUNTIFS('Add Players'!$B$6:$H$1505,B31)) -> 10 | D31: =IF(B31="","",IF(COUNTA('Add Games'!$A$6:$A$45)=0,"",C31/COUNTA('Add Games'!$A$6:$A$45))) -> 0.3125 | E31: =IF(B31="","",_xlfn.TEXTJOIN(", ",TRUE,_xlfn._xlws.UNIQUE(_xlfn._xlws.FILTER('Add Players'!$C$6:$I$1505,'Add Players'!$B$6:$H$1505=B31,"")))) -> #NAME?
A32: =IF(B32="","",1+COUNTIFS($C$6:$C$225,">"&C32)) -> 23 | B32: =IF('Player Directory'!$A52="","",'Player Directory'!$A52) -> Downing, Steve | C32: =IF(B32="","",COUNTIFS('Add Players'!$B$6:$H$1505,B32)) -> 10 | D32: =IF(B32="","",IF(COUNTA('Add Games'!$A$6:$A$45)=0,"",C32/COUNTA('Add Games'!$A$6:$A$45))) -> 0.3125 | E32: =IF(B32="","",_xlfn.TEXTJOIN(", ",TRUE,_xlfn._xlws.UNIQUE(_xlfn._xlws.FILTER('Add Players'!$C$6:$I$1505,'Add Players'!$B$6:$H$1505=B32,"")))) -> #NAME?
A33: =IF(B33="","",1+COUNTIFS($C$6:$C$225,">"&C33)) -> 28 | B33: =IF('Player Directory'!$A143="","",'Player Directory'!$A143) -> Myers, Matt | C33: =IF(B33="","",COUNTIFS('Add Players'!$B$6:$H$1505,B33)) -> 9 | D33: =IF(B33="","",IF(COUNTA('Add Games'!$A$6:$A$45)=0,"",C33/COUNTA('Add Games'!$A$6:$A$45))) -> 0.28125 | E33: =IF(B33="","",_xlfn.TEXTJOIN(", ",TRUE,_xlfn._xlws.UNIQUE(_xlfn._xlws.FILTER('Add Players'!$C$6:$I$1505,'Add Players'!$B$6:$H$1505=B33,"")))) -> #NAME?
A34: =IF(B34="","",1+COUNTIFS($C$6:$C$225,">"&C34)) -> 28 | B34: =IF('Player Directory'!$A22="","",'Player Directory'!$A22) -> Bowman, Mike | C34: =IF(B34="","",COUNTIFS('Add Players'!$B$6:$H$1505,B34)) -> 9 | D34: =IF(B34="","",IF(COUNTA('Add Games'!$A$6:$A$45)=0,"",C34/COUNTA('Add Games'!$A$6:$A$45))) -> 0.28125 | E34: =IF(B34="","",_xlfn.TEXTJOIN(", ",TRUE,_xlfn._xlws.UNIQUE(_xlfn._xlws.FILTER('Add Players'!$C$6:$I$1505,'Add Players'!$B$6:$H$1505=B34,"")))) -> #NAME?
A35: =IF(B35="","",1+COUNTIFS($C$6:$C$225,">"&C35)) -> 28 | B35: =IF('Player Directory'!$A223="","",'Player Directory'!$A223) -> Zawacki, Andy | C35: =IF(B35="","",COUNTIFS('Add Players'!$B$6:$H$1505,B35)) -> 9 | D35: =IF(B35="","",IF(COUNTA('Add Games'!$A$6:$A$45)=0,"",C35/COUNTA('Add Games'!$A$6:$A$45))) -> 0.28125 | E35: =IF(B35="","",_xlfn.TEXTJOIN(", ",TRUE,_xlfn._xlws.UNIQUE(_xlfn._xlws.FILTER('Add Players'!$C$6:$I$1505,'Add Players'!$B$6:$H$1505=B35,"")))) -> #NAME?
A36: =IF(B36="","",1+COUNTIFS($C$6:$C$225,">"&C36)) -> 31 | B36: =IF('Player Directory'!$A154="","",'Player Directory'!$A154) -> Pawlukiewicz, Michael | C36: =IF(B36="","",COUNTIFS('Add Players'!$B$6:$H$1505,B36)) -> 8 | D36: =IF(B36="","",IF(COUNTA('Add Games'!$A$6:$A$45)=0,"",C36/COUNTA('Add Games'!$A$6:$A$45))) -> 0.25 | E36: =IF(B36="","",_xlfn.TEXTJOIN(", ",TRUE,_xlfn._xlws.UNIQUE(_xlfn._xlws.FILTER('Add Players'!$C$6:$I$1505,'Add Players'!$B$6:$H$1505=B36,"")))) -> #NAME?
A37: =IF(B37="","",1+COUNTIFS($C$6:$C$225,">"&C37)) -> 31 | B37: =IF('Player Directory'!$A85="","",'Player Directory'!$A85) -> Hart, Kevin (Inwood) | C37: =IF(B37="","",COUNTIFS('Add Players'!$B$6:$H$1505,B37)) -> 8 | D37: =IF(B37="","",IF(COUNTA('Add Games'!$A$6:$A$45)=0,"",C37/COUNTA('Add Games'!$A$6:$A$45))) -> 0.25 | E37: =IF(B37="","",_xlfn.TEXTJOIN(", ",TRUE,_xlfn._xlws.UNIQUE(_xlfn._xlws.FILTER('Add Players'!$C$6:$I$1505,'Add Players'!$B$6:$H$1505=B37,"")))) -> #NAME?
A38: =IF(B38="","",1+COUNTIFS($C$6:$C$225,">"&C38)) -> 33 | B38: =IF('Player Directory'!$A138="","",'Player Directory'!$A138) -> Merritt, Steve | C38: =IF(B38="","",COUNTIFS('Add Players'!$B$6:$H$1505,B38)) -> 7 | D38: =IF(B38="","",IF(COUNTA('Add Games'!$A$6:$A$45)=0,"",C38/COUNTA('Add Games'!$A$6:$A$45))) -> 0.21875 | E38: =IF(B38="","",_xlfn.TEXTJOIN(", ",TRUE,_xlfn._xlws.UNIQUE(_xlfn._xlws.FILTER('Add Players'!$C$6:$I$1505,'Add Players'!$B$6:$H$1505=B38,"")))) -> #NAME?
A39: =IF(B39="","",1+COUNTIFS($C$6:$C$225,">"&C39)) -> 33 | B39: =IF('Player Directory'!$A175="","",'Player Directory'!$A175) -> Shaver, Mike | C39: =IF(B39="","",COUNTIFS('Add Players'!$B$6:$H$1505,B39)) -> 7 | D39: =IF(B39="","",IF(COUNTA('Add Games'!$A$6:$A$45)=0,"",C39/COUNTA('Add Games'!$A$6:$A$45))) -> 0.21875 | E39: =IF(B39="","",_xlfn.TEXTJOIN(", ",TRUE,_xlfn._xlws.UNIQUE(_xlfn._xlws.FILTER('Add Players'!$C$6:$I$1505,'Add Players'!$B$6:$H$1505=B39,"")))) -> #NAME?
A40: =IF(B40="","",1+COUNTIFS($C$6:$C$225,">"&C40)) -> 33 | B40: =IF('Player Directory'!$A119="","",'Player Directory'!$A119) -> Lewandowsky, Taylor | C40: =IF(B40="","",COUNTIFS('Add Players'!$B$6:$H$1505,B40)) -> 7 | D40: =IF(B40="","",IF(COUNTA('Add Games'!$A$6:$A$45)=0,"",C40/COUNTA('Add Games'!$A$6:$A$45))) -> 0.21875 | E40: =IF(B40="","",_xlfn.TEXTJOIN(", ",TRUE,_xlfn._xlws.UNIQUE(_xlfn._xlws.FILTER('Add Players'!$C$6:$I$1505,'Add Players'!$B$6:$H$1505=B40,"")))) -> #NAME?
A41: =IF(B41="","",1+COUNTIFS($C$6:$C$225,">"&C41)) -> 36 | B41: =IF('Player Directory'!$A8="","",'Player Directory'!$A8) -> Allendorf, Jay (Inwood) | C41: =IF(B41="","",COUNTIFS('Add Players'!$B$6:$H$1505,B41)) -> 6 | D41: =IF(B41="","",IF(COUNTA('Add Games'!$A$6:$A$45)=0,"",C41/COUNTA('Add Games'!$A$6:$A$45))) -> 0.1875 | E41: =IF(B41="","",_xlfn.TEXTJOIN(", ",TRUE,_xlfn._xlws.UNIQUE(_xlfn._xlws.FILTER('Add Players'!$C$6:$I$1505,'Add Players'!$B$6:$H$1505=B41,"")))) -> #NAME?
A42: =IF(B42="","",1+COUNTIFS($C$6:$C$225,">"&C42)) -> 36 | B42: =IF('Player Directory'!$A109="","",'Player Directory'!$A109) -> Keenan, Greg | C42: =IF(B42="","",COUNTIFS('Add Players'!$B$6:$H$1505,B42)) -> 6 | D42: =IF(B42="","",IF(COUNTA('Add Games'!$A$6:$A$45)=0,"",C42/COUNTA('Add Games'!$A$6:$A$45))) -> 0.1875 | E42: =IF(B42="","",_xlfn.TEXTJOIN(", ",TRUE,_xlfn._xlws.UNIQUE(_xlfn._xlws.FILTER('Add Players'!$C$6:$I$1505,'Add Players'!$B$6:$H$1505=B42,"")))) -> #NAME?
A43: =IF(B43="","",1+COUNTIFS($C$6:$C$225,">"&C43)) -> 38 | B43: =IF('Player Directory'!$A36="","",'Player Directory'!$A36) -> Clark, Steve | C43: =IF(B43="","",COUNTIFS('Add Players'!$B$6:$H$1505,B43)) -> 5 | D43: =IF(B43="","",IF(COUNTA('Add Games'!$A$6:$A$45)=0,"",C43/COUNTA('Add Games'!$A$6:$A$45))) -> 0.15625 | E43: =IF(B43="","",_xlfn.TEXTJOIN(", ",TRUE,_xlfn._xlws.UNIQUE(_xlfn._xlws.FILTER('Add Players'!$C$6:$I$1505,'Add Players'!$B$6:$H$1505=B43,"")))) -> #NAME?
A44: =IF(B44="","",1+COUNTIFS($C$6:$C$225,">"&C44)) -> 38 | B44: =IF('Player Directory'!$A21="","",'Player Directory'!$A21) -> Blok, Jake | C44: =IF(B44="","",COUNTIFS('Add Players'!$B$6:$H$1505,B44)) -> 5 | D44: =IF(B44="","",IF(COUNTA('Add Games'!$A$6:$A$45)=0,"",C44/COUNTA('Add Games'!$A$6:$A$45))) -> 0.15625 | E44: =IF(B44="","",_xlfn.TEXTJOIN(", ",TRUE,_xlfn._xlws.UNIQUE(_xlfn._xlws.FILTER('Add Players'!$C$6:$I$1505,'Add Players'!$B$6:$H$1505=B44,"")))) -> #NAME?
A45: =IF(B45="","",1+COUNTIFS($C$6:$C$225,">"&C45)) -> 38 | B45: =IF('Player Directory'!$A166="","",'Player Directory'!$A166) -> Samuels, Josh | C45: =IF(B45="","",COUNTIFS('Add Players'!$B$6:$H$1505,B45)) -> 5 | D45: =IF(B45="","",IF(COUNTA('Add Games'!$A$6:$A$45)=0,"",C45/COUNTA('Add Games'!$A$6:$A$45))) -> 0.15625 | E45: =IF(B45="","",_xlfn.TEXTJOIN(", ",TRUE,_xlfn._xlws.UNIQUE(_xlfn._xlws.FILTER('Add Players'!$C$6:$I$1505,'Add Players'!$B$6:$H$1505=B45,"")))) -> #NAME?
A46: =IF(B46="","",1+COUNTIFS($C$6:$C$225,">"&C46)) -> 38 | B46: =IF('Player Directory'!$A112="","",'Player Directory'!$A112) -> Kinney, Zack | C46: =IF(B46="","",COUNTIFS('Add Players'!$B$6:$H$1505,B46)) -> 5 | D46: =IF(B46="","",IF(COUNTA('Add Games'!$A$6:$A$45)=0,"",C46/COUNTA('Add Games'!$A$6:$A$45))) -> 0.15625 | E46: =IF(B46="","",_xlfn.TEXTJOIN(", ",TRUE,_xlfn._xlws.UNIQUE(_xlfn._xlws.FILTER('Add Players'!$C$6:$I$1505,'Add Players'!$B$6:$H$1505=B46,"")))) -> #NAME?
A47: =IF(B47="","",1+COUNTIFS($C$6:$C$225,">"&C47)) -> 38 | B47: =IF('Player Directory'!$A114="","",'Player Directory'!$A114) -> Kooima, Ryan | C47: =IF(B47="","",COUNTIFS('Add Players'!$B$6:$H$1505,B47)) -> 5 | D47: =IF(B47="","",IF(COUNTA('Add Games'!$A$6:$A$45)=0,"",C47/COUNTA('Add Games'!$A$6:$A$45))) -> 0.15625 | E47: =IF(B47="","",_xlfn.TEXTJOIN(", ",TRUE,_xlfn._xlws.UNIQUE(_xlfn._xlws.FILTER('Add Players'!$C$6:$I$1505,'Add Players'!$B$6:$H$1505=B47,"")))) -> #NAME?
A48: =IF(B48="","",1+COUNTIFS($C$6:$C$225,">"&C48)) -> 38 | B48: =IF('Player Directory'!$A57="","",'Player Directory'!$A57) -> Endres, Mike | C48: =IF(B48="","",COUNTIFS('Add Players'!$B$6:$H$1505,B48)) -> 5 | D48: =IF(B48="","",IF(COUNTA('Add Games'!$A$6:$A$45)=0,"",C48/COUNTA('Add Games'!$A$6:$A$45))) -> 0.15625 | E48: =IF(B48="","",_xlfn.TEXTJOIN(", ",TRUE,_xlfn._xlws.UNIQUE(_xlfn._xlws.FILTER('Add Players'!$C$6:$I$1505,'Add Players'!$B$6:$H$1505=B48,"")))) -> #NAME?
A49: =IF(B49="","",1+COUNTIFS($C$6:$C$225,">"&C49)) -> 38 | B49: =IF('Player Directory'!$A68="","",'Player Directory'!$A68) -> Fosnot, Matt (MBLH) | C49: =IF(B49="","",COUNTIFS('Add Players'!$B$6:$H$1505,B49)) -> 5 | D49: =IF(B49="","",IF(COUNTA('Add Games'!$A$6:$A$45)=0,"",C49/COUNTA('Add Games'!$A$6:$A$45))) -> 0.15625 | E49: =IF(B49="","",_xlfn.TEXTJOIN(", ",TRUE,_xlfn._xlws.UNIQUE(_xlfn._xlws.FILTER('Add Players'!$C$6:$I$1505,'Add Players'!$B$6:$H$1505=B49,"")))) -> #NAME?
A50: =IF(B50="","",1+COUNTIFS($C$6:$C$225,">"&C50)) -> 38 | B50: =IF('Player Directory'!$A169="","",'Player Directory'!$A169) -> Schaab, Sam | C50: =IF(B50="","",COUNTIFS('Add Players'!$B$6:$H$1505,B50)) -> 5 | D50: =IF(B50="","",IF(COUNTA('Add Games'!$A$6:$A$45)=0,"",C50/COUNTA('Add Games'!$A$6:$A$45))) -> 0.15625 | E50: =IF(B50="","",_xlfn.TEXTJOIN(", ",TRUE,_xlfn._xlws.UNIQUE(_xlfn._xlws.FILTER('Add Players'!$C$6:$I$1505,'Add Players'!$B$6:$H$1505=B50,"")))) -> #NAME?
A51: =IF(B51="","",1+COUNTIFS($C$6:$C$225,">"&C51)) -> 38 | B51: =IF('Player Directory'!$A182="","",'Player Directory'!$A182) -> Speer, Sean | C51: =IF(B51="","",COUNTIFS('Add Players'!$B$6:$H$1505,B51)) -> 5 | D51: =IF(B51="","",IF(COUNTA('Add Games'!$A$6:$A$45)=0,"",C51/COUNTA('Add Games'!$A$6:$A$45))) -> 0.15625 | E51: =IF(B51="","",_xlfn.TEXTJOIN(", ",TRUE,_xlfn._xlws.UNIQUE(_xlfn._xlws.FILTER('Add Players'!$C$6:$I$1505,'Add Players'!$B$6:$H$1505=B51,"")))) -> #NAME?
A52: =IF(B52="","",1+COUNTIFS($C$6:$C$225,">"&C52)) -> 38 | B52: =IF('Player Directory'!$A201="","",'Player Directory'!$A201) -> VanOverloop, Tim | C52: =IF(B52="","",COUNTIFS('Add Players'!$B$6:$H$1505,B52)) -> 5 | D52: =IF(B52="","",IF(COUNTA('Add Games'!$A$6:$A$45)=0,"",C52/COUNTA('Add Games'!$A$6:$A$45))) -> 0.15625 | E52: =IF(B52="","",_xlfn.TEXTJOIN(", ",TRUE,_xlfn._xlws.UNIQUE(_xlfn._xlws.FILTER('Add Players'!$C$6:$I$1505,'Add Players'!$B$6:$H$1505=B52,"")))) -> #NAME?
A53: =IF(B53="","",1+COUNTIFS($C$6:$C$225,">"&C53)) -> 48 | B53: =IF('Player Directory'!$A126="","",'Player Directory'!$A126) -> Lyons, Michael | C53: =IF(B53="","",COUNTIFS('Add Players'!$B$6:$H$1505,B53)) -> 4 | D53: =IF(B53="","",IF(COUNTA('Add Games'!$A$6:$A$45)=0,"",C53/COUNTA('Add Games'!$A$6:$A$45))) -> 0.125 | E53: =IF(B53="","",_xlfn.TEXTJOIN(", ",TRUE,_xlfn._xlws.UNIQUE(_xlfn._xlws.FILTER('Add Players'!$C$6:$I$1505,'Add Players'!$B$6:$H$1505=B53,"")))) -> #NAME?
A54: =IF(B54="","",1+COUNTIFS($C$6:$C$225,">"&C54)) -> 48 | B54: =IF('Player Directory'!$A125="","",'Player Directory'!$A125) -> Lyi, Taharka | C54: =IF(B54="","",COUNTIFS('Add Players'!$B$6:$H$1505,B54)) -> 4 | D54: =IF(B54="","",IF(COUNTA('Add Games'!$A$6:$A$45)=0,"",C54/COUNTA('Add Games'!$A$6:$A$45))) -> 0.125 | E54: =IF(B54="","",_xlfn.TEXTJOIN(", ",TRUE,_xlfn._xlws.UNIQUE(_xlfn._xlws.FILTER('Add Players'!$C$6:$I$1505,'Add Players'!$B$6:$H$1505=B54,"")))) -> #NAME?
A55: =IF(B55="","",1+COUNTIFS($C$6:$C$225,">"&C55)) -> 48 | B55: =IF('Player Directory'!$A15="","",'Player Directory'!$A15) -> Banas, Trevor (WIFC) | C55: =IF(B55="","",COUNTIFS('Add Players'!$B$6:$H$1505,B55)) -> 4 | D55: =IF(B55="","",IF(COUNTA('Add Games'!$A$6:$A$45)=0,"",C55/COUNTA('Add Games'!$A$6:$A$45))) -> 0.125 | E55: =IF(B55="","",_xlfn.TEXTJOIN(", ",TRUE,_xlfn._xlws.UNIQUE(_xlfn._xlws.FILTER('Add Players'!$C$6:$I$1505,'Add Players'!$B$6:$H$1505=B55,"")))) -> #NAME?
A56: =IF(B56="","",1+COUNTIFS($C$6:$C$225,">"&C56)) -> 48 | B56: =IF('Player Directory'!$A146="","",'Player Directory'!$A146) -> Neiger, Matt | C56: =IF(B56="","",COUNTIFS('Add Players'!$B$6:$H$1505,B56)) -> 4 | D56: =IF(B56="","",IF(COUNTA('Add Games'!$A$6:$A$45)=0,"",C56/COUNTA('Add Games'!$A$6:$A$45))) -> 0.125 | E56: =IF(B56="","",_xlfn.TEXTJOIN(", ",TRUE,_xlfn._xlws.UNIQUE(_xlfn._xlws.FILTER('Add Players'!$C$6:$I$1505,'Add Players'!$B$6:$H$1505=B56,"")))) -> #NAME?
A57: =IF(B57="","",1+COUNTIFS($C$6:$C$225,">"&C57)) -> 48 | B57: =IF('Player Directory'!$A53="","",'Player Directory'!$A53) -> Drabczyk, Brian | C57: =IF(B57="","",COUNTIFS('Add Players'!$B$6:$H$1505,B57)) -> 4 | D57: =IF(B57="","",IF(COUNTA('Add Games'!$A$6:$A$45)=0,"",C57/COUNTA('Add Games'!$A$6:$A$45))) -> 0.125 | E57: =IF(B57="","",_xlfn.TEXTJOIN(", ",TRUE,_xlfn._xlws.UNIQUE(_xlfn._xlws.FILTER('Add Players'!$C$6:$I$1505,'Add Players'!$B$6:$H$1505=B57,"")))) -> #NAME?
A58: =IF(B58="","",1+COUNTIFS($C$6:$C$225,">"&C58)) -> 48 | B58: =IF('Player Directory'!$A124="","",'Player Directory'!$A124) -> Long, Steve (Inwood) | C58: =IF(B58="","",COUNTIFS('Add Players'!$B$6:$H$1505,B58)) -> 4 | D58: =IF(B58="","",IF(COUNTA('Add Games'!$A$6:$A$45)=0,"",C58/COUNTA('Add Games'!$A$6:$A$45))) -> 0.125 | E58: =IF(B58="","",_xlfn.TEXTJOIN(", ",TRUE,_xlfn._xlws.UNIQUE(_xlfn._xlws.FILTER('Add Players'!$C$6:$I$1505,'Add Players'!$B$6:$H$1505=B58,"")))) -> #NAME?
A59: =IF(B59="","",1+COUNTIFS($C$6:$C$225,">"&C59)) -> 48 | B59: =IF('Player Directory'!$A168="","",'Player Directory'!$A168) -> Saunders, Justin | C59: =IF(B59="","",COUNTIFS('Add Players'!$B$6:$H$1505,B59)) -> 4 | D59: =IF(B59="","",IF(COUNTA('Add Games'!$A$6:$A$45)=0,"",C59/COUNTA('Add Games'!$A$6:$A$45))) -> 0.125 | E59: =IF(B59="","",_xlfn.TEXTJOIN(", ",TRUE,_xlfn._xlws.UNIQUE(_xlfn._xlws.FILTER('Add Players'!$C$6:$I$1505,'Add Players'!$B$6:$H$1505=B59,"")))) -> #NAME?
A60: =IF(B60="","",1+COUNTIFS($C$6:$C$225,">"&C60)) -> 48 | B60: =IF('Player Directory'!$A35="","",'Player Directory'!$A35) -> Clark, Matt | C60: =IF(B60="","",COUNTIFS('Add Players'!$B$6:$H$1505,B60)) -> 4 | D60: =IF(B60="","",IF(COUNTA('Add Games'!$A$6:$A$45)=0,"",C60/COUNTA('Add Games'!$A$6:$A$45))) -> 0.125 | E60: =IF(B60="","",_xlfn.TEXTJOIN(", ",TRUE,_xlfn._xlws.UNIQUE(_xlfn._xlws.FILTER('Add Players'!$C$6:$I$1505,'Add Players'!$B$6:$H$1505=B60,"")))) -> #NAME?
A61: =IF(B61="","",1+COUNTIFS($C$6:$C$225,">"&C61)) -> 48 | B61: =IF('Player Directory'!$A89="","",'Player Directory'!$A89) -> Henderson, Troy | C61: =IF(B61="","",COUNTIFS('Add Players'!$B$6:$H$1505,B61)) -> 4 | D61: =IF(B61="","",IF(COUNTA('Add Games'!$A$6:$A$45)=0,"",C61/COUNTA('Add Games'!$A$6:$A$45))) -> 0.125 | E61: =IF(B61="","",_xlfn.TEXTJOIN(", ",TRUE,_xlfn._xlws.UNIQUE(_xlfn._xlws.FILTER('Add Players'!$C$6:$I$1505,'Add Players'!$B$6:$H$1505=B61,"")))) -> #NAME?
A62: =IF(B62="","",1+COUNTIFS($C$6:$C$225,">"&C62)) -> 48 | B62: =IF('Player Directory'!$A120="","",'Player Directory'!$A120) -> Lewis, Kevin | C62: =IF(B62="","",COUNTIFS('Add Players'!$B$6:$H$1505,B62)) -> 4 | D62: =IF(B62="","",IF(COUNTA('Add Games'!$A$6:$A$45)=0,"",C62/COUNTA('Add Games'!$A$6:$A$45))) -> 0.125 | E62: =IF(B62="","",_xlfn.TEXTJOIN(", ",TRUE,_xlfn._xlws.UNIQUE(_xlfn._xlws.FILTER('Add Players'!$C$6:$I$1505,'Add Players'!$B$6:$H$1505=B62,"")))) -> #NAME?
A63: =IF(B63="","",1+COUNTIFS($C$6:$C$225,">"&C63)) -> 48 | B63: =IF('Player Directory'!$A162="","",'Player Directory'!$A162) -> Reichert, Walt | C63: =IF(B63="","",COUNTIFS('Add Players'!$B$6:$H$1505,B63)) -> 4 | D63: =IF(B63="","",IF(COUNTA('Add Games'!$A$6:$A$45)=0,"",C63/COUNTA('Add Games'!$A$6:$A$45))) -> 0.125 | E63: =IF(B63="","",_xlfn.TEXTJOIN(", ",TRUE,_xlfn._xlws.UNIQUE(_xlfn._xlws.FILTER('Add Players'!$C$6:$I$1505,'Add Players'!$B$6:$H$1505=B63,"")))) -> #NAME?
A64: =IF(B64="","",1+COUNTIFS($C$6:$C$225,">"&C64)) -> 48 | B64: =IF('Player Directory'!$A176="","",'Player Directory'!$A176) -> Sheerin, Kyle | C64: =IF(B64="","",COUNTIFS('Add Players'!$B$6:$H$1505,B64)) -> 4 | D64: =IF(B64="","",IF(COUNTA('Add Games'!$A$6:$A$45)=0,"",C64/COUNTA('Add Games'!$A$6:$A$45))) -> 0.125 | E64: =IF(B64="","",_xlfn.TEXTJOIN(", ",TRUE,_xlfn._xlws.UNIQUE(_xlfn._xlws.FILTER('Add Players'!$C$6:$I$1505,'Add Players'!$B$6:$H$1505=B64,"")))) -> #NAME?
A65: =IF(B65="","",1+COUNTIFS($C$6:$C$225,">"&C65)) -> 48 | B65: =IF('Player Directory'!$A190="","",'Player Directory'!$A190) -> Tompkins, Jordan | C65: =IF(B65="","",COUNTIFS('Add Players'!$B$6:$H$1505,B65)) -> 4 | D65: =IF(B65="","",IF(COUNTA('Add Games'!$A$6:$A$45)=0,"",C65/COUNTA('Add Games'!$A$6:$A$45))) -> 0.125 | E65: =IF(B65="","",_xlfn.TEXTJOIN(", ",TRUE,_xlfn._xlws.UNIQUE(_xlfn._xlws.FILTER('Add Players'!$C$6:$I$1505,'Add Players'!$B$6:$H$1505=B65,"")))) -> #NAME?
A66: =IF(B66="","",1+COUNTIFS($C$6:$C$225,">"&C66)) -> 61 | B66: =IF('Player Directory'!$A140="","",'Player Directory'!$A140) -> Moore, Ryan | C66: =IF(B66="","",COUNTIFS('Add Players'!$B$6:$H$1505,B66)) -> 3 | D66: =IF(B66="","",IF(COUNTA('Add Games'!$A$6:$A$45)=0,"",C66/COUNTA('Add Games'!$A$6:$A$45))) -> 0.09375 | E66: =IF(B66="","",_xlfn.TEXTJOIN(", ",TRUE,_xlfn._xlws.UNIQUE(_xlfn._xlws.FILTER('Add Players'!$C$6:$I$1505,'Add Players'!$B$6:$H$1505=B66,"")))) -> #NAME?
A67: =IF(B67="","",1+COUNTIFS($C$6:$C$225,">"&C67)) -> 61 | B67: =IF('Player Directory'!$A151="","",'Player Directory'!$A151) -> Orzechowski, DJ (Inwood) | C67: =IF(B67="","",COUNTIFS('Add Players'!$B$6:$H$1505,B67)) -> 3 | D67: =IF(B67="","",IF(COUNTA('Add Games'!$A$6:$A$45)=0,"",C67/COUNTA('Add Games'!$A$6:$A$45))) -> 0.09375 | E67: =IF(B67="","",_xlfn.TEXTJOIN(", ",TRUE,_xlfn._xlws.UNIQUE(_xlfn._xlws.FILTER('Add Players'!$C$6:$I$1505,'Add Players'!$B$6:$H$1505=B67,"")))) -> #NAME?
A68: =IF(B68="","",1+COUNTIFS($C$6:$C$225,">"&C68)) -> 61 | B68: =IF('Player Directory'!$A25="","",'Player Directory'!$A25) -> Breuker, Chris | C68: =IF(B68="","",COUNTIFS('Add Players'!$B$6:$H$1505,B68)) -> 3 | D68: =IF(B68="","",IF(COUNTA('Add Games'!$A$6:$A$45)=0,"",C68/COUNTA('Add Games'!$A$6:$A$45))) -> 0.09375 | E68: =IF(B68="","",_xlfn.TEXTJOIN(", ",TRUE,_xlfn._xlws.UNIQUE(_xlfn._xlws.FILTER('Add Players'!$C$6:$I$1505,'Add Players'!$B$6:$H$1505=B68,"")))) -> #NAME?
A69: =IF(B69="","",1+COUNTIFS($C$6:$C$225,">"&C69)) -> 61 | B69: =IF('Player Directory'!$A70="","",'Player Directory'!$A70) -> Gennello, Ezra | C69: =IF(B69="","",COUNTIFS('Add Players'!$B$6:$H$1505,B69)) -> 3 | D69: =IF(B69="","",IF(COUNTA('Add Games'!$A$6:$A$45)=0,"",C69/COUNTA('Add Games'!$A$6:$A$45))) -> 0.09375 | E69: =IF(B69="","",_xlfn.TEXTJOIN(", ",TRUE,_xlfn._xlws.UNIQUE(_xlfn._xlws.FILTER('Add Players'!$C$6:$I$1505,'Add Players'!$B$6:$H$1505=B69,"")))) -> #NAME?
A70: =IF(B70="","",1+COUNTIFS($C$6:$C$225,">"&C70)) -> 61 | B70: =IF('Player Directory'!$A106="","",'Player Directory'!$A106) -> Kaber, Josh | C70: =IF(B70="","",COUNTIFS('Add Players'!$B$6:$H$1505,B70)) -> 3 | D70: =IF(B70="","",IF(COUNTA('Add Games'!$A$6:$A$45)=0,"",C70/COUNTA('Add Games'!$A$6:$A$45))) -> 0.09375 | E70: =IF(B70="","",_xlfn.TEXTJOIN(", ",TRUE,_xlfn._xlws.UNIQUE(_xlfn._xlws.FILTER('Add Players'!$C$6:$I$1505,'Add Players'!$B$6:$H$1505=B70,"")))) -> #NAME?
A71: =IF(B71="","",1+COUNTIFS($C$6:$C$225,">"&C71)) -> 61 | B71: =IF('Player Directory'!$A111="","",'Player Directory'!$A111) -> Kinney, Ben | C71: =IF(B71="","",COUNTIFS('Add Players'!$B$6:$H$1505,B71)) -> 3 | D71: =IF(B71="","",IF(COUNTA('Add Games'!$A$6:$A$45)=0,"",C71/COUNTA('Add Games'!$A$6:$A$45))) -> 0.09375 | E71: =IF(B71="","",_xlfn.TEXTJOIN(", ",TRUE,_xlfn._xlws.UNIQUE(_xlfn._xlws.FILTER('Add Players'!$C$6:$I$1505,'Add Players'!$B$6:$H$1505=B71,"")))) -> #NAME?
A72: =IF(B72="","",1+COUNTIFS($C$6:$C$225,">"&C72)) -> 61 | B72: =IF('Player Directory'!$A122="","",'Player Directory'!$A122) -> Lochinski, Joe | C72: =IF(B72="","",COUNTIFS('Add Players'!$B$6:$H$1505,B72)) -> 3 | D72: =IF(B72="","",IF(COUNTA('Add Games'!$A$6:$A$45)=0,"",C72/COUNTA('Add Games'!$A$6:$A$45))) -> 0.09375 | E72: =IF(B72="","",_xlfn.TEXTJOIN(", ",TRUE,_xlfn._xlws.UNIQUE(_xlfn._xlws.FILTER('Add Players'!$C$6:$I$1505,'Add Players'!$B$6:$H$1505=B72,"")))) -> #NAME?
A73: =IF(B73="","",1+COUNTIFS($C$6:$C$225,">"&C73)) -> 61 | B73: =IF('Player Directory'!$A172="","",'Player Directory'!$A172) -> Schnabel, Ryan | C73: =IF(B73="","",COUNTIFS('Add Players'!$B$6:$H$1505,B73)) -> 3 | D73: =IF(B73="","",IF(COUNTA('Add Games'!$A$6:$A$45)=0,"",C73/COUNTA('Add Games'!$A$6:$A$45))) -> 0.09375 | E73: =IF(B73="","",_xlfn.TEXTJOIN(", ",TRUE,_xlfn._xlws.UNIQUE(_xlfn._xlws.FILTER('Add Players'!$C$6:$I$1505,'Add Players'!$B$6:$H$1505=B73,"")))) -> #NAME?
A74: =IF(B74="","",1+COUNTIFS($C$6:$C$225,">"&C74)) -> 61 | B74: =IF('Player Directory'!$A181="","",'Player Directory'!$A181) -> Sobczak, Matt | C74: =IF(B74="","",COUNTIFS('Add Players'!$B$6:$H$1505,B74)) -> 3 | D74: =IF(B74="","",IF(COUNTA('Add Games'!$A$6:$A$45)=0,"",C74/COUNTA('Add Games'!$A$6:$A$45))) -> 0.09375 | E74: =IF(B74="","",_xlfn.TEXTJOIN(", ",TRUE,_xlfn._xlws.UNIQUE(_xlfn._xlws.FILTER('Add Players'!$C$6:$I$1505,'Add Players'!$B$6:$H$1505=B74,"")))) -> #NAME?
A75: =IF(B75="","",1+COUNTIFS($C$6:$C$225,">"&C75)) -> 61 | B75: =IF('Player Directory'!$A194="","",'Player Directory'!$A194) -> Tuggle, Hunter | C75: =IF(B75="","",COUNTIFS('Add Players'!$B$6:$H$1505,B75)) -> 3 | D75: =IF(B75="","",IF(COUNTA('Add Games'!$A$6:$A$45)=0,"",C75/COUNTA('Add Games'!$A$6:$A$45))) -> 0.09375 | E75: =IF(B75="","",_xlfn.TEXTJOIN(", ",TRUE,_xlfn._xlws.UNIQUE(_xlfn._xlws.FILTER('Add Players'!$C$6:$I$1505,'Add Players'!$B$6:$H$1505=B75,"")))) -> #NAME?
A76: =IF(B76="","",1+COUNTIFS($C$6:$C$225,">"&C76)) -> 61 | B76: =IF('Player Directory'!$A197="","",'Player Directory'!$A197) -> Urban, Mike | C76: =IF(B76="","",COUNTIFS('Add Players'!$B$6:$H$1505,B76)) -> 3 | D76: =IF(B76="","",IF(COUNTA('Add Games'!$A$6:$A$45)=0,"",C76/COUNTA('Add Games'!$A$6:$A$45))) -> 0.09375 | E76: =IF(B76="","",_xlfn.TEXTJOIN(", ",TRUE,_xlfn._xlws.UNIQUE(_xlfn._xlws.FILTER('Add Players'!$C$6:$I$1505,'Add Players'!$B$6:$H$1505=B76,"")))) -> #NAME?
A77: =IF(B77="","",1+COUNTIFS($C$6:$C$225,">"&C77)) -> 72 | B77: =IF('Player Directory'!$A59="","",'Player Directory'!$A59) -> Erickson, Paul | C77: =IF(B77="","",COUNTIFS('Add Players'!$B$6:$H$1505,B77)) -> 2 | D77: =IF(B77="","",IF(COUNTA('Add Games'!$A$6:$A$45)=0,"",C77/COUNTA('Add Games'!$A$6:$A$45))) -> 0.0625 | E77: =IF(B77="","",_xlfn.TEXTJOIN(", ",TRUE,_xlfn._xlws.UNIQUE(_xlfn._xlws.FILTER('Add Players'!$C$6:$I$1505,'Add Players'!$B$6:$H$1505=B77,"")))) -> #NAME?
A78: =IF(B78="","",1+COUNTIFS($C$6:$C$225,">"&C78)) -> 72 | B78: =IF('Player Directory'!$A137="","",'Player Directory'!$A137) -> Meinke, Derek | C78: =IF(B78="","",COUNTIFS('Add Players'!$B$6:$H$1505,B78)) -> 2 | D78: =IF(B78="","",IF(COUNTA('Add Games'!$A$6:$A$45)=0,"",C78/COUNTA('Add Games'!$A$6:$A$45))) -> 0.0625 | E78: =IF(B78="","",_xlfn.TEXTJOIN(", ",TRUE,_xlfn._xlws.UNIQUE(_xlfn._xlws.FILTER('Add Players'!$C$6:$I$1505,'Add Players'!$B$6:$H$1505=B78,"")))) -> #NAME?
A79: =IF(B79="","",1+COUNTIFS($C$6:$C$225,">"&C79)) -> 72 | B79: =IF('Player Directory'!$A133="","",'Player Directory'!$A133) -> Marody, Jim | C79: =IF(B79="","",COUNTIFS('Add Players'!$B$6:$H$1505,B79)) -> 2 | D79: =IF(B79="","",IF(COUNTA('Add Games'!$A$6:$A$45)=0,"",C79/COUNTA('Add Games'!$A$6:$A$45))) -> 0.0625 | E79: =IF(B79="","",_xlfn.TEXTJOIN(", ",TRUE,_xlfn._xlws.UNIQUE(_xlfn._xlws.FILTER('Add Players'!$C$6:$I$1505,'Add Players'!$B$6:$H$1505=B79,"")))) -> #NAME?
A80: =IF(B80="","",1+COUNTIFS($C$6:$C$225,">"&C80)) -> 72 | B80: =IF('Player Directory'!$A78="","",'Player Directory'!$A78) -> Grocki, Don | C80: =IF(B80="","",COUNTIFS('Add Players'!$B$6:$H$1505,B80)) -> 2 | D80: =IF(B80="","",IF(COUNTA('Add Games'!$A$6:$A$45)=0,"",C80/COUNTA('Add Games'!$A$6:$A$45))) -> 0.0625 | E80: =IF(B80="","",_xlfn.TEXTJOIN(", ",TRUE,_xlfn._xlws.UNIQUE(_xlfn._xlws.FILTER('Add Players'!$C$6:$I$1505,'Add Players'!$B$6:$H$1505=B80,"")))) -> #NAME?
A81: =IF(B81="","",1+COUNTIFS($C$6:$C$225,">"&C81)) -> 72 | B81: =IF('Player Directory'!$A159="","",'Player Directory'!$A159) -> Powell, Eric | C81: =IF(B81="","",COUNTIFS('Add Players'!$B$6:$H$1505,B81)) -> 2 | D81: =IF(B81="","",IF(COUNTA('Add Games'!$A$6:$A$45)=0,"",C81/COUNTA('Add Games'!$A$6:$A$45))) -> 0.0625 | E81: =IF(B81="","",_xlfn.TEXTJOIN(", ",TRUE,_xlfn._xlws.UNIQUE(_xlfn._xlws.FILTER('Add Players'!$C$6:$I$1505,'Add Players'!$B$6:$H$1505=B81,"")))) -> #NAME?
A82: =IF(B82="","",1+COUNTIFS($C$6:$C$225,">"&C82)) -> 72 | B82: =IF('Player Directory'!$A100="","",'Player Directory'!$A100) -> Johnson, Ryan | C82: =IF(B82="","",COUNTIFS('Add Players'!$B$6:$H$1505,B82)) -> 2 | D82: =IF(B82="","",IF(COUNTA('Add Games'!$A$6:$A$45)=0,"",C82/COUNTA('Add Games'!$A$6:$A$45))) -> 0.0625 | E82: =IF(B82="","",_xlfn.TEXTJOIN(", ",TRUE,_xlfn._xlws.UNIQUE(_xlfn._xlws.FILTER('Add Players'!$C$6:$I$1505,'Add Players'!$B$6:$H$1505=B82,"")))) -> #NAME?
A83: =IF(B83="","",1+COUNTIFS($C$6:$C$225,">"&C83)) -> 72 | B83: =IF('Player Directory'!$A184="","",'Player Directory'!$A184) -> Stewart, Patrick | C83: =IF(B83="","",COUNTIFS('Add Players'!$B$6:$H$1505,B83)) -> 2 | D83: =IF(B83="","",IF(COUNTA('Add Games'!$A$6:$A$45)=0,"",C83/COUNTA('Add Games'!$A$6:$A$45))) -> 0.0625 | E83: =IF(B83="","",_xlfn.TEXTJOIN(", ",TRUE,_xlfn._xlws.UNIQUE(_xlfn._xlws.FILTER('Add Players'!$C$6:$I$1505,'Add Players'!$B$6:$H$1505=B83,"")))) -> #NAME?
A84: =IF(B84="","",1+COUNTIFS($C$6:$C$225,">"&C84)) -> 72 | B84: =IF('Player Directory'!$A50="","",'Player Directory'!$A50) -> Doctor, Brian | C84: =IF(B84="","",COUNTIFS('Add Players'!$B$6:$H$1505,B84)) -> 2 | D84: =IF(B84="","",IF(COUNTA('Add Games'!$A$6:$A$45)=0,"",C84/COUNTA('Add Games'!$A$6:$A$45))) -> 0.0625 | E84: =IF(B84="","",_xlfn.TEXTJOIN(", ",TRUE,_xlfn._xlws.UNIQUE(_xlfn._xlws.FILTER('Add Players'!$C$6:$I$1505,'Add Players'!$B$6:$H$1505=B84,"")))) -> #NAME?
A85: =IF(B85="","",1+COUNTIFS($C$6:$C$225,">"&C85)) -> 72 | B85: =IF('Player Directory'!$A156="","",'Player Directory'!$A156) -> Pokorny, Nick | C85: =IF(B85="","",COUNTIFS('Add Players'!$B$6:$H$1505,B85)) -> 2 | D85: =IF(B85="","",IF(COUNTA('Add Games'!$A$6:$A$45)=0,"",C85/COUNTA('Add Games'!$A$6:$A$45))) -> 0.0625 | E85: =IF(B85="","",_xlfn.TEXTJOIN(", ",TRUE,_xlfn._xlws.UNIQUE(_xlfn._xlws.FILTER('Add Players'!$C$6:$I$1505,'Add Players'!$B$6:$H$1505=B85,"")))) -> #NAME?
A86: =IF(B86="","",1+COUNTIFS($C$6:$C$225,">"&C86)) -> 72 | B86: =IF('Player Directory'!$A180="","",'Player Directory'!$A180) -> Smith, Josh | C86: =IF(B86="","",COUNTIFS('Add Players'!$B$6:$H$1505,B86)) -> 2 | D86: =IF(B86="","",IF(COUNTA('Add Games'!$A$6:$A$45)=0,"",C86/COUNTA('Add Games'!$A$6:$A$45))) -> 0.0625 | E86: =IF(B86="","",_xlfn.TEXTJOIN(", ",TRUE,_xlfn._xlws.UNIQUE(_xlfn._xlws.FILTER('Add Players'!$C$6:$I$1505,'Add Players'!$B$6:$H$1505=B86,"")))) -> #NAME?
A87: =IF(B87="","",1+COUNTIFS($C$6:$C$225,">"&C87)) -> 72 | B87: =IF('Player Directory'!$A6="","",'Player Directory'!$A6) -> Addante, Jason (CHI) | C87: =IF(B87="","",COUNTIFS('Add Players'!$B$6:$H$1505,B87)) -> 2 | D87: =IF(B87="","",IF(COUNTA('Add Games'!$A$6:$A$45)=0,"",C87/COUNTA('Add Games'!$A$6:$A$45))) -> 0.0625 | E87: =IF(B87="","",_xlfn.TEXTJOIN(", ",TRUE,_xlfn._xlws.UNIQUE(_xlfn._xlws.FILTER('Add Players'!$C$6:$I$1505,'Add Players'!$B$6:$H$1505=B87,"")))) -> #NAME?
A88: =IF(B88="","",1+COUNTIFS($C$6:$C$225,">"&C88)) -> 72 | B88: =IF('Player Directory'!$A11="","",'Player Directory'!$A11) -> Anderson, Gordie | C88: =IF(B88="","",COUNTIFS('Add Players'!$B$6:$H$1505,B88)) -> 2 | D88: =IF(B88="","",IF(COUNTA('Add Games'!$A$6:$A$45)=0,"",C88/COUNTA('Add Games'!$A$6:$A$45))) -> 0.0625 | E88: =IF(B88="","",_xlfn.TEXTJOIN(", ",TRUE,_xlfn._xlws.UNIQUE(_xlfn._xlws.FILTER('Add Players'!$C$6:$I$1505,'Add Players'!$B$6:$H$1505=B88,"")))) -> #NAME?
A89: =IF(B89="","",1+COUNTIFS($C$6:$C$225,">"&C89)) -> 72 | B89: =IF('Player Directory'!$A56="","",'Player Directory'!$A56) -> Emelander, Skyler | C89: =IF(B89="","",COUNTIFS('Add Players'!$B$6:$H$1505,B89)) -> 2 | D89: =IF(B89="","",IF(COUNTA('Add Games'!$A$6:$A$45)=0,"",C89/COUNTA('Add Games'!$A$6:$A$45))) -> 0.0625 | E89: =IF(B89="","",_xlfn.TEXTJOIN(", ",TRUE,_xlfn._xlws.UNIQUE(_xlfn._xlws.FILTER('Add Players'!$C$6:$I$1505,'Add Players'!$B$6:$H$1505=B89,"")))) -> #NAME?
A90: =IF(B90="","",1+COUNTIFS($C$6:$C$225,">"&C90)) -> 72 | B90: =IF('Player Directory'!$A82="","",'Player Directory'!$A82) -> Harmon, Wes | C90: =IF(B90="","",COUNTIFS('Add Players'!$B$6:$H$1505,B90)) -> 2 | D90: =IF(B90="","",IF(COUNTA('Add Games'!$A$6:$A$45)=0,"",C90/COUNTA('Add Games'!$A$6:$A$45))) -> 0.0625 | E90: =IF(B90="","",_xlfn.TEXTJOIN(", ",TRUE,_xlfn._xlws.UNIQUE(_xlfn._xlws.FILTER('Add Players'!$C$6:$I$1505,'Add Players'!$B$6:$H$1505=B90,"")))) -> #NAME?
A91: =IF(B91="","",1+COUNTIFS($C$6:$C$225,">"&C91)) -> 72 | B91: =IF('Player Directory'!$A91="","",'Player Directory'!$A91) -> Hoolsema, Mitch | C91: =IF(B91="","",COUNTIFS('Add Players'!$B$6:$H$1505,B91)) -> 2 | D91: =IF(B91="","",IF(COUNTA('Add Games'!$A$6:$A$45)=0,"",C91/COUNTA('Add Games'!$A$6:$A$45))) -> 0.0625 | E91: =IF(B91="","",_xlfn.TEXTJOIN(", ",TRUE,_xlfn._xlws.UNIQUE(_xlfn._xlws.FILTER('Add Players'!$C$6:$I$1505,'Add Players'!$B$6:$H$1505=B91,"")))) -> #NAME?
A92: =IF(B92="","",1+COUNTIFS($C$6:$C$225,">"&C92)) -> 72 | B92: =IF('Player Directory'!$A129="","",'Player Directory'!$A129) -> Manning, Chad | C92: =IF(B92="","",COUNTIFS('Add Players'!$B$6:$H$1505,B92)) -> 2 | D92: =IF(B92="","",IF(COUNTA('Add Games'!$A$6:$A$45)=0,"",C92/COUNTA('Add Games'!$A$6:$A$45))) -> 0.0625 | E92: =IF(B92="","",_xlfn.TEXTJOIN(", ",TRUE,_xlfn._xlws.UNIQUE(_xlfn._xlws.FILTER('Add Players'!$C$6:$I$1505,'Add Players'!$B$6:$H$1505=B92,"")))) -> #NAME?
A93: =IF(B93="","",1+COUNTIFS($C$6:$C$225,">"&C93)) -> 72 | B93: =IF('Player Directory'!$A142="","",'Player Directory'!$A142) -> Myers, Brandon | C93: =IF(B93="","",COUNTIFS('Add Players'!$B$6:$H$1505,B93)) -> 2 | D93: =IF(B93="","",IF(COUNTA('Add Games'!$A$6:$A$45)=0,"",C93/COUNTA('Add Games'!$A$6:$A$45))) -> 0.0625 | E93: =IF(B93="","",_xlfn.TEXTJOIN(", ",TRUE,_xlfn._xlws.UNIQUE(_xlfn._xlws.FILTER('Add Players'!$C$6:$I$1505,'Add Players'!$B$6:$H$1505=B93,"")))) -> #NAME?
A94: =IF(B94="","",1+COUNTIFS($C$6:$C$225,">"&C94)) -> 72 | B94: =IF('Player Directory'!$A164="","",'Player Directory'!$A164) -> Ruemenapp, Joe | C94: =IF(B94="","",COUNTIFS('Add Players'!$B$6:$H$1505,B94)) -> 2 | D94: =IF(B94="","",IF(COUNTA('Add Games'!$A$6:$A$45)=0,"",C94/COUNTA('Add Games'!$A$6:$A$45))) -> 0.0625 | E94: =IF(B94="","",_xlfn.TEXTJOIN(", ",TRUE,_xlfn._xlws.UNIQUE(_xlfn._xlws.FILTER('Add Players'!$C$6:$I$1505,'Add Players'!$B$6:$H$1505=B94,"")))) -> #NAME?
A95: =IF(B95="","",1+COUNTIFS($C$6:$C$225,">"&C95)) -> 72 | B95: =IF('Player Directory'!$A170="","",'Player Directory'!$A170) -> Schemmel, Jason | C95: =IF(B95="","",COUNTIFS('Add Players'!$B$6:$H$1505,B95)) -> 2 | D95: =IF(B95="","",IF(COUNTA('Add Games'!$A$6:$A$45)=0,"",C95/COUNTA('Add Games'!$A$6:$A$45))) -> 0.0625 | E95: =IF(B95="","",_xlfn.TEXTJOIN(", ",TRUE,_xlfn._xlws.UNIQUE(_xlfn._xlws.FILTER('Add Players'!$C$6:$I$1505,'Add Players'!$B$6:$H$1505=B95,"")))) -> #NAME?
A96: =IF(B96="","",1+COUNTIFS($C$6:$C$225,">"&C96)) -> 72 | B96: =IF('Player Directory'!$A186="","",'Player Directory'!$A186) -> Swansegar, Kyle | C96: =IF(B96="","",COUNTIFS('Add Players'!$B$6:$H$1505,B96)) -> 2 | D96: =IF(B96="","",IF(COUNTA('Add Games'!$A$6:$A$45)=0,"",C96/COUNTA('Add Games'!$A$6:$A$45))) -> 0.0625 | E96: =IF(B96="","",_xlfn.TEXTJOIN(", ",TRUE,_xlfn._xlws.UNIQUE(_xlfn._xlws.FILTER('Add Players'!$C$6:$I$1505,'Add Players'!$B$6:$H$1505=B96,"")))) -> #NAME?
A97: =IF(B97="","",1+COUNTIFS($C$6:$C$225,">"&C97)) -> 72 | B97: =IF('Player Directory'!$A203="","",'Player Directory'!$A203) -> Vargas, Tom | C97: =IF(B97="","",COUNTIFS('Add Players'!$B$6:$H$1505,B97)) -> 2 | D97: =IF(B97="","",IF(COUNTA('Add Games'!$A$6:$A$45)=0,"",C97/COUNTA('Add Games'!$A$6:$A$45))) -> 0.0625 | E97: =IF(B97="","",_xlfn.TEXTJOIN(", ",TRUE,_xlfn._xlws.UNIQUE(_xlfn._xlws.FILTER('Add Players'!$C$6:$I$1505,'Add Players'!$B$6:$H$1505=B97,"")))) -> #NAME?
A98: =IF(B98="","",1+COUNTIFS($C$6:$C$225,">"&C98)) -> 72 | B98: =IF('Player Directory'!$A18="","",'Player Directory'!$A18) -> Benedict, Chris | C98: =IF(B98="","",COUNTIFS('Add Players'!$B$6:$H$1505,B98)) -> 2 | D98: =IF(B98="","",IF(COUNTA('Add Games'!$A$6:$A$45)=0,"",C98/COUNTA('Add Games'!$A$6:$A$45))) -> 0.0625 | E98: =IF(B98="","",_xlfn.TEXTJOIN(", ",TRUE,_xlfn._xlws.UNIQUE(_xlfn._xlws.FILTER('Add Players'!$C$6:$I$1505,'Add Players'!$B$6:$H$1505=B98,"")))) -> #NAME?
A99: =IF(B99="","",1+COUNTIFS($C$6:$C$225,">"&C99)) -> 72 | B99: =IF('Player Directory'!$A63="","",'Player Directory'!$A63) -> Fabian, Pavel | C99: =IF(B99="","",COUNTIFS('Add Players'!$B$6:$H$1505,B99)) -> 2 | D99: =IF(B99="","",IF(COUNTA('Add Games'!$A$6:$A$45)=0,"",C99/COUNTA('Add Games'!$A$6:$A$45))) -> 0.0625 | E99: =IF(B99="","",_xlfn.TEXTJOIN(", ",TRUE,_xlfn._xlws.UNIQUE(_xlfn._xlws.FILTER('Add Players'!$C$6:$I$1505,'Add Players'!$B$6:$H$1505=B99,"")))) -> #NAME?
A100: =IF(B100="","",1+COUNTIFS($C$6:$C$225,">"&C100)) -> 72 | B100: =IF('Player Directory'!$A66="","",'Player Directory'!$A66) -> Fisco, Enzo | C100: =IF(B100="","",COUNTIFS('Add Players'!$B$6:$H$1505,B100)) -> 2 | D100: =IF(B100="","",IF(COUNTA('Add Games'!$A$6:$A$45)=0,"",C100/COUNTA('Add Games'!$A$6:$A$45))) -> 0.0625 | E100: =IF(B100="","",_xlfn.TEXTJOIN(", ",TRUE,_xlfn._xlws.UNIQUE(_xlfn._xlws.FILTER('Add Players'!$C$6:$I$1505,'Add Players'!$B$6:$H$1505=B100,"")))) -> #NAME?
A101: =IF(B101="","",1+COUNTIFS($C$6:$C$225,">"&C101)) -> 72 | B101: =IF('Player Directory'!$A77="","",'Player Directory'!$A77) -> Grocki, Cody | C101: =IF(B101="","",COUNTIFS('Add Players'!$B$6:$H$1505,B101)) -> 2 | D101: =IF(B101="","",IF(COUNTA('Add Games'!$A$6:$A$45)=0,"",C101/COUNTA('Add Games'!$A$6:$A$45))) -> 0.0625 | E101: =IF(B101="","",_xlfn.TEXTJOIN(", ",TRUE,_xlfn._xlws.UNIQUE(_xlfn._xlws.FILTER('Add Players'!$C$6:$I$1505,'Add Players'!$B$6:$H$1505=B101,"")))) -> #NAME?
A102: =IF(B102="","",1+COUNTIFS($C$6:$C$225,">"&C102)) -> 72 | B102: =IF('Player Directory'!$A83="","",'Player Directory'!$A83) -> Harper, Dave | C102: =IF(B102="","",COUNTIFS('Add Players'!$B$6:$H$1505,B102)) -> 2 | D102: =IF(B102="","",IF(COUNTA('Add Games'!$A$6:$A$45)=0,"",C102/COUNTA('Add Games'!$A$6:$A$45))) -> 0.0625 | E102: =IF(B102="","",_xlfn.TEXTJOIN(", ",TRUE,_xlfn._xlws.UNIQUE(_xlfn._xlws.FILTER('Add Players'!$C$6:$I$1505,'Add Players'!$B$6:$H$1505=B102,"")))) -> #NAME?
...

Sheet Goalie Matrix
A2: Goalie Selection Matrix — Automatically Includes Player Directory Names
A3: Game ID | B3: =IF('Add Games'!$A6="","",'Add Games'!$A6) -> G001 | C3: =IF('Add Games'!$A7="","",'Add Games'!$A7) -> G002 | D3: =IF('Add Games'!$A8="","",'Add Games'!$A8) -> G003 | E3: =IF('Add Games'!$A9="","",'Add Games'!$A9) -> G004 | F3: =IF('Add Games'!$A10="","",'Add Games'!$A10) -> G005 | G3: =IF('Add Games'!$A11="","",'Add Games'!$A11) -> G006 | H3: =IF('Add Games'!$A12="","",'Add Games'!$A12) -> G007 | I3: =IF('Add Games'!$A13="","",'Add Games'!$A13) -> G008 | J3: =IF('Add Games'!$A14="","",'Add Games'!$A14) -> G009 | K3: =IF('Add Games'!$A15="","",'Add Games'!$A15) -> G010 | L3: =IF('Add Games'!$A16="","",'Add Games'!$A16) -> G011 | M3: =IF('Add Games'!$A17="","",'Add Games'!$A17) -> G012 | N3: =IF('Add Games'!$A18="","",'Add Games'!$A18) -> G013 | O3: =IF('Add Games'!$A19="","",'Add Games'!$A19) -> G014 | P3: =IF('Add Games'!$A20="","",'Add Games'!$A20) -> G015 | Q3: =IF('Add Games'!$A21="","",'Add Games'!$A21) -> G016 | R3: =IF('Add Games'!$A22="","",'Add Games'!$A22) -> G017 | S3: =IF('Add Games'!$A23="","",'Add Games'!$A23) -> G018 | T3: =IF('Add Games'!$A24="","",'Add Games'!$A24) -> G019 | U3: =IF('Add Games'!$A25="","",'Add Games'!$A25) -> G020 | V3: =IF('Add Games'!$A26="","",'Add Games'!$A26) -> G021 | W3: =IF('Add Games'!$A27="","",'Add Games'!$A27) -> G022 | X3: =IF('Add Games'!$A28="","",'Add Games'!$A28) -> G023 | Y3: =IF('Add Games'!$A29="","",'Add Games'!$A29) -> G024 | Z3: =IF('Add Games'!$A30="","",'Add Games'!$A30) -> G025 | AA3: =IF('Add Games'!$A31="","",'Add Games'!$A31) -> G026 | AB3: =IF('Add Games'!$A32="","",'Add Games'!$A32) -> G027 | AC3: =IF('Add Games'!$A33="","",'Add Games'!$A33) -> G028 | AD3: =IF('Add Games'!$A34="","",'Add Games'!$A34) -> G029 | AE3: =IF('Add Games'!$A35="","",'Add Games'!$A35) -> G030 | AF3: =IF('Add Games'!$A36="","",'Add Games'!$A36) -> G031 | AG3: =IF('Add Games'!$A37="","",'Add Games'!$A37) -> G032 | AH3: =IF('Add Games'!$A38="","",'Add Games'!$A38) | AI3: =IF('Add Games'!$A39="","",'Add Games'!$A39) | AJ3: =IF('Add Games'!$A40="","",'Add Games'!$A40) | AK3: =IF('Add Games'!$A41="","",'Add Games'!$A41) | AL3: =IF('Add Games'!$A42="","",'Add Games'!$A42) | AM3: =IF('Add Games'!$A43="","",'Add Games'!$A43) | AN3: =IF('Add Games'!$A44="","",'Add Games'!$A44) | AO3: =IF('Add Games'!$A45="","",'Add Games'!$A45)
A4: Arena | B4: =IF(B$3="","",'Add Games'!$C6) -> Van Andel Arena | C4: =IF(C$3="","",'Add Games'!$C7) -> Van Andel Arena | D4: =IF(D$3="","",'Add Games'!$C8) -> Van Andel Arena | E4: =IF(E$3="","",'Add Games'!$C9) -> Van Andel Arena | F4: =IF(F$3="","",'Add Games'!$C10) -> Joe Louis Arena | G4: =IF(G$3="","",'Add Games'!$C11) -> Joe Louis Arena | H4: =IF(H$3="","",'Add Games'!$C12) -> L.C. Walker Arena | I4: =IF(I$3="","",'Add Games'!$C13) -> Wings Practice | J4: =IF(J$3="","",'Add Games'!$C14) -> Wings Practice | K4: =IF(K$3="","",'Add Games'!$C15) -> Walker Arena | L4: =IF(L$3="","",'Add Games'!$C16) -> Little Caesars Arena | M4: =IF(M$3="","",'Add Games'!$C17) -> Wings Stadium | N4: =IF(N$3="","",'Add Games'!$C18) -> Mercy Health Arena | O4: =IF(O$3="","",'Add Games'!$C19) -> USA Hockey Arena | P4: =IF(P$3="","",'Add Games'!$C20) -> Yost Ice Arena | Q4: =IF(Q$3="","",'Add Games'!$C21) -> Mercy Health Arena | R4: =IF(R$3="","",'Add Games'!$C22) -> Allstate Arena | S4: =IF(S$3="","",'Add Games'!$C23) -> Munn Ice Arena | T4: =IF(T$3="","",'Add Games'!$C24) -> Fifth Third Arena — Chicago | U4: =IF(U$3="","",'Add Games'!$C25) -> Yost Ice Arena | V4: =IF(V$3="","",'Add Games'!$C26) -> Dort Financial Center — Flint | W4: =IF(W$3="","",'Add Games'!$C27) -> Trinity Health Arena — Muskegon | X4: =IF(X$3="","",'Add Games'!$C28) -> Lawson Ice Arena | Y4: =IF(Y$3="","",'Add Games'!$C29) -> Dow Event Center — Saginaw | Z4: =IF(Z$3="","",'Add Games'!$C30) -> UWM Panther Arena — Milwaukee | AA4: =IF(AA$3="","",'Add Games'!$C31) -> Huntington Center — Toledo | AB4: =IF(AB$3="","",'Add Games'!$C32) -> Trinity Health Arena — Muskegon | AC4: =IF(AC$3="","",'Add Games'!$C33) -> BMO Center — Rockford | AD4: =IF(AD$3="","",'Add Games'!$C34) -> Trinity Health Arena — Muskegon | AE4: =IF(AE$3="","",'Add Games'!$C35) -> WFCU Center — Windsor | AF4: =IF(AF$3="","",'Add Games'!$C36) -> Rocket Arena — Cleveland | AG4: =IF(AG$3="","",'Add Games'!$C37) -> USG Arena- Chicago | AH4: =IF(AH$3="","",'Add Games'!$C38) | AI4: =IF(AI$3="","",'Add Games'!$C39) | AJ4: =IF(AJ$3="","",'Add Games'!$C40) | AK4: =IF(AK$3="","",'Add Games'!$C41) | AL4: =IF(AL$3="","",'Add Games'!$C42) | AM4: =IF(AM$3="","",'Add Games'!$C43) | AN4: =IF(AN$3="","",'Add Games'!$C44) | AO4: =IF(AO$3="","",'Add Games'!$C45)
A5: Final Score | B5: =IF(B$3="","",'Add Games'!$D6) -> MOS 8, Phantoms 6 | C5: =IF(C$3="","",'Add Games'!$D7) -> Relay for Life 1, Phantoms 0 | D5: =IF(D$3="","",'Add Games'!$D8) -> Phantoms 8, MOS 6 | E5: =IF(E$3="","",'Add Games'!$D9) -> MOS 8, Phantoms 3 | F5: =IF(F$3="","",'Add Games'!$D10) -> PHA 6, Gong Show 4 | G5: =IF(G$3="","",'Add Games'!$D11) -> Black 5, Yellow 3 | H5: =IF(H$3="","",'Add Games'!$D12) -> Black 4, Yellow 2 | I5: =IF(I$3="","",'Add Games'!$D13) -> Yellow 7, Black 4 | J5: =IF(J$3="","",'Add Games'!$D14) -> Black 6, Yellow 4 | K5: =IF(K$3="","",'Add Games'!$D15) -> Black defeats Yellow | L5: =IF(L$3="","",'Add Games'!$D16) -> Gray 7, Black 5 | M5: =IF(M$3="","",'Add Games'!$D17) -> Gray defeats Black | N5: =IF(N$3="","",'Add Games'!$D18) -> Black 7, Gray 7 | O5: =IF(O$3="","",'Add Games'!$D19) -> Black 2, Gray 2 | P5: =IF(P$3="","",'Add Games'!$D20) -> Black 5, Gray 4 (OT) | Q5: =IF(Q$3="","",'Add Games'!$D21) -> Black 5, Gray 3 | R5: =IF(R$3="","",'Add Games'!$D22) -> Black 5, Gray 2 | S5: =IF(S$3="","",'Add Games'!$D23) -> Gray 6, Black 3 | T5: =IF(T$3="","",'Add Games'!$D24) -> Gray 4, Black 1 | U5: =IF(U$3="","",'Add Games'!$D25) -> Yellow 6, Black 5 (OT) | V5: =IF(V$3="","",'Add Games'!$D26) -> Gray 7, Black 6 | W5: =IF(W$3="","",'Add Games'!$D27) -> Gray 9, Black 4 | X5: =IF(X$3="","",'Add Games'!$D28) -> Yellow 12, Black 9 | Y5: =IF(Y$3="","",'Add Games'!$D29) -> Black 8, Gray 5 | Z5: =IF(Z$3="","",'Add Games'!$D30) -> Gray 10, Black 6 | AA5: =IF(AA$3="","",'Add Games'!$D31) -> Black 10, Yellow 9 | AB5: =IF(AB$3="","",'Add Games'!$D32) -> Black 9, Yellow 3 | AC5: =IF(AC$3="","",'Add Games'!$D33) -> Gray 10, Black 7 | AD5: =IF(AD$3="","",'Add Games'!$D34) -> Gray 10, Black 6 | AE5: =IF(AE$3="","",'Add Games'!$D35) -> Gray 2, Black 7 | AF5: =IF(AF$3="","",'Add Games'!$D36) -> Black 10, Gray 7 | AG5: =IF(AG$3="","",'Add Games'!$D37) -> Gray 8, Black 4 | AH5: =IF(AH$3="","",'Add Games'!$D38) | AI5: =IF(AI$3="","",'Add Games'!$D39) | AJ5: =IF(AJ$3="","",'Add Games'!$D40) | AK5: =IF(AK$3="","",'Add Games'!$D41) | AL5: =IF(AL$3="","",'Add Games'!$D42) | AM5: =IF(AM$3="","",'Add Games'!$D43) | AN5: =IF(AN$3="","",'Add Games'!$D44) | AO5: =IF(AO$3="","",'Add Games'!$D45)
A6: Date | B6: =IF(B$3="","",'Add Games'!$B6) -> 41685 | C6: =IF(C$3="","",'Add Games'!$B7) -> 42077 | D6: =IF(D$3="","",'Add Games'!$B8) -> 42112 | E6: =IF(E$3="","",'Add Games'!$B9) -> 42455 | F6: =IF(F$3="","",'Add Games'!$B10) -> 42707.5 | G6: =IF(G$3="","",'Add Games'!$B11) -> 42854.5 | H6: =IF(H$3="","",'Add Games'!$B12) -> 43162.5 | I6: =IF(I$3="","",'Add Games'!$B13) -> 43190.5 | J6: =IF(J$3="","",'Add Games'!$B14) -> 43197.5 | K6: =IF(K$3="","",'Add Games'!$B15) -> 43540.5 | L6: =IF(L$3="","",'Add Games'!$B16) -> 43751.5 | M6: =IF(M$3="","",'Add Games'!$B17) -> 43869.5 | N6: =IF(N$3="","",'Add Games'!$B18) -> 44296.5 | O6: =IF(O$3="","",'Add Games'!$B19) -> 44850.5 | P6: =IF(P$3="","",'Add Games'!$B20) -> 44604.5 | Q6: =IF(Q$3="","",'Add Games'!$B21) -> 44632.5 | R6: =IF(R$3="","",'Add Games'!$B22) -> 44877.5 | S6: =IF(S$3="","",'Add Games'!$B23) -> 44954.5 | T6: =IF(T$3="","",'Add Games'!$B24) -> 45003.5 | U6: =IF(U$3="","",'Add Games'!$B25) -> 45066.5 | V6: =IF(V$3="","",'Add Games'!$B26) -> 45346.5 | W6: =IF(W$3="","",'Add Games'!$B27) -> 45353.5 | X6: =IF(X$3="","",'Add Games'!$B28) -> 45388.5 | Y6: =IF(Y$3="","",'Add Games'!$B29) -> 45605.5 | Z6: =IF(Z$3="","",'Add Games'!$B30) -> 45696.5 | AA6: =IF(AA$3="","",'Add Games'!$B31) -> 45710.5 | AB6: =IF(AB$3="","",'Add Games'!$B32) -> 45738.5 | AC6: =IF(AC$3="","",'Add Games'!$B33) -> 45962.5 | AD6: =IF(AD$3="","",'Add Games'!$B34) -> 46060.5 | AE6: =IF(AE$3="","",'Add Games'!$B35) -> 46081.5 | AF6: =IF(AF$3="","",'Add Games'!$B36) -> 46116.5 | AG6: =IF(AG$3="","",'Add Games'!$B37) -> 46305 | AH6: =IF(AH$3="","",'Add Games'!$B38) | AI6: =IF(AI$3="","",'Add Games'!$B39) | AJ6: =IF(AJ$3="","",'Add Games'!$B40) | AK6: =IF(AK$3="","",'Add Games'!$B41) | AL6: =IF(AL$3="","",'Add Games'!$B42) | AM6: =IF(AM$3="","",'Add Games'!$B43) | AN6: =IF(AN$3="","",'Add Games'!$B44) | AO6: =IF(AO$3="","",'Add Games'!$B45)
A7: =IF('Player Directory'!A6="","",'Player Directory'!A6) -> Addante, Jason (CHI) | B7: =IF(OR($A7="",B$3=""),"",IFERROR(INDEX('Add Players'!$C$6:$C$1505,MATCH(B$3&"|"&$A7,'Add Players'!$D$6:$D$1505,0)),"")) | C7: =IF(OR($A7="",C$3=""),"",IFERROR(INDEX('Add Players'!$C$6:$C$1505,MATCH(C$3&"|"&$A7,'Add Players'!$D$6:$D$1505,0)),"")) | D7: =IF(OR($A7="",D$3=""),"",IFERROR(INDEX('Add Players'!$C$6:$C$1505,MATCH(D$3&"|"&$A7,'Add Players'!$D$6:$D$1505,0)),"")) | E7: =IF(OR($A7="",E$3=""),"",IFERROR(INDEX('Add Players'!$C$6:$C$1505,MATCH(E$3&"|"&$A7,'Add Players'!$D$6:$D$1505,0)),"")) | F7: =IF(OR($A7="",F$3=""),"",IFERROR(INDEX('Add Players'!$C$6:$C$1505,MATCH(F$3&"|"&$A7,'Add Players'!$D$6:$D$1505,0)),"")) | G7: =IF(OR($A7="",G$3=""),"",IFERROR(INDEX('Add Players'!$C$6:$C$1505,MATCH(G$3&"|"&$A7,'Add Players'!$D$6:$D$1505,0)),"")) | H7: =IF(OR($A7="",H$3=""),"",IFERROR(INDEX('Add Players'!$C$6:$C$1505,MATCH(H$3&"|"&$A7,'Add Players'!$D$6:$D$1505,0)),"")) | I7: =IF(OR($A7="",I$3=""),"",IFERROR(INDEX('Add Players'!$C$6:$C$1505,MATCH(I$3&"|"&$A7,'Add Players'!$D$6:$D$1505,0)),"")) | ... AO7: =IF(OR($A7="",AO$3=""),"",IFERROR(INDEX('Add Players'!$C$6:$C$1505,MATCH(AO$3&"|"&$A7,'Add Players'!$D$6:$D$1505,0)),""))
A8: =IF('Player Directory'!A7="","",'Player Directory'!A7) -> Allard, Kyle | B8: =IF(OR($A8="",B$3=""),"",IFERROR(INDEX('Add Players'!$C$6:$C$1505,MATCH(B$3&"|"&$A8,'Add Players'!$D$6:$D$1505,0)),"")) | C8: =IF(OR($A8="",C$3=""),"",IFERROR(INDEX('Add Players'!$C$6:$C$1505,MATCH(C$3&"|"&$A8,'Add Players'!$D$6:$D$1505,0)),"")) | D8: =IF(OR($A8="",D$3=""),"",IFERROR(INDEX('Add Players'!$C$6:$C$1505,MATCH(D$3&"|"&$A8,'Add Players'!$D$6:$D$1505,0)),"")) | E8: =IF(OR($A8="",E$3=""),"",IFERROR(INDEX('Add Players'!$C$6:$C$1505,MATCH(E$3&"|"&$A8,'Add Players'!$D$6:$D$1505,0)),"")) | F8: =IF(OR($A8="",F$3=""),"",IFERROR(INDEX('Add Players'!$C$6:$C$1505,MATCH(F$3&"|"&$A8,'Add Players'!$D$6:$D$1505,0)),"")) | G8: =IF(OR($A8="",G$3=""),"",IFERROR(INDEX('Add Players'!$C$6:$C$1505,MATCH(G$3&"|"&$A8,'Add Players'!$D$6:$D$1505,0)),"")) | H8: =IF(OR($A8="",H$3=""),"",IFERROR(INDEX('Add Players'!$C$6:$C$1505,MATCH(H$3&"|"&$A8,'Add Players'!$D$6:$D$1505,0)),"")) | I8: =IF(OR($A8="",I$3=""),"",IFERROR(INDEX('Add Players'!$C$6:$C$1505,MATCH(I$3&"|"&$A8,'Add Players'!$D$6:$D$1505,0)),"")) | ... AO8: =IF(OR($A8="",AO$3=""),"",IFERROR(INDEX('Add Players'!$C$6:$C$1505,MATCH(AO$3&"|"&$A8,'Add Players'!$D$6:$D$1505,0)),""))
A9: =IF('Player Directory'!A8="","",'Player Directory'!A8) -> Allendorf, Jay (Inwood) | B9: =IF(OR($A9="",B$3=""),"",IFERROR(INDEX('Add Players'!$C$6:$C$1505,MATCH(B$3&"|"&$A9,'Add Players'!$D$6:$D$1505,0)),"")) | C9: =IF(OR($A9="",C$3=""),"",IFERROR(INDEX('Add Players'!$C$6:$C$1505,MATCH(C$3&"|"&$A9,'Add Players'!$D$6:$D$1505,0)),"")) | D9: =IF(OR($A9="",D$3=""),"",IFERROR(INDEX('Add Players'!$C$6:$C$1505,MATCH(D$3&"|"&$A9,'Add Players'!$D$6:$D$1505,0)),"")) | E9: =IF(OR($A9="",E$3=""),"",IFERROR(INDEX('Add Players'!$C$6:$C$1505,MATCH(E$3&"|"&$A9,'Add Players'!$D$6:$D$1505,0)),"")) | F9: =IF(OR($A9="",F$3=""),"",IFERROR(INDEX('Add Players'!$C$6:$C$1505,MATCH(F$3&"|"&$A9,'Add Players'!$D$6:$D$1505,0)),"")) | G9: =IF(OR($A9="",G$3=""),"",IFERROR(INDEX('Add Players'!$C$6:$C$1505,MATCH(G$3&"|"&$A9,'Add Players'!$D$6:$D$1505,0)),"")) -> Endres | H9: =IF(OR($A9="",H$3=""),"",IFERROR(INDEX('Add Players'!$C$6:$C$1505,MATCH(H$3&"|"&$A9,'Add Players'!$D$6:$D$1505,0)),"")) | I9: =IF(OR($A9="",I$3=""),"",IFERROR(INDEX('Add Players'!$C$6:$C$1505,MATCH(I$3&"|"&$A9,'Add Players'!$D$6:$D$1505,0)),"")) | ... AO9: =IF(OR($A9="",AO$3=""),"",IFERROR(INDEX('Add Players'!$C$6:$C$1505,MATCH(AO$3&"|"&$A9,'Add Players'!$D$6:$D$1505,0)),""))
A10: =IF('Player Directory'!A9="","",'Player Directory'!A9) -> Alvarez, Ramsey (LLC) | B10: =IF(OR($A10="",B$3=""),"",IFERROR(INDEX('Add Players'!$C$6:$C$1505,MATCH(B$3&"|"&$A10,'Add Players'!$D$6:$D$1505,0)),"")) | C10: =IF(OR($A10="",C$3=""),"",IFERROR(INDEX('Add Players'!$C$6:$C$1505,MATCH(C$3&"|"&$A10,'Add Players'!$D$6:$D$1505,0)),"")) | D10: =IF(OR($A10="",D$3=""),"",IFERROR(INDEX('Add Players'!$C$6:$C$1505,MATCH(D$3&"|"&$A10,'Add Players'!$D$6:$D$1505,0)),"")) | E10: =IF(OR($A10="",E$3=""),"",IFERROR(INDEX('Add Players'!$C$6:$C$1505,MATCH(E$3&"|"&$A10,'Add Players'!$D$6:$D$1505,0)),"")) | F10: =IF(OR($A10="",F$3=""),"",IFERROR(INDEX('Add Players'!$C$6:$C$1505,MATCH(F$3&"|"&$A10,'Add Players'!$D$6:$D$1505,0)),"")) | G10: =IF(OR($A10="",G$3=""),"",IFERROR(INDEX('Add Players'!$C$6:$C$1505,MATCH(G$3&"|"&$A10,'Add Players'!$D$6:$D$1505,0)),"")) | H10: =IF(OR($A10="",H$3=""),"",IFERROR(INDEX('Add Players'!$C$6:$C$1505,MATCH(H$3&"|"&$A10,'Add Players'!$D$6:$D$1505,0)),"")) | I10: =IF(OR($A10="",I$3=""),"",IFERROR(INDEX('Add Players'!$C$6:$C$1505,MATCH(I$3&"|"&$A10,'Add Players'!$D$6:$D$1505,0)),"")) | ... AO10: =IF(OR($A10="",AO$3=""),"",IFERROR(INDEX('Add Players'!$C$6:$C$1505,MATCH(AO$3&"|"&$A10,'Add Players'!$D$6:$D$1505,0)),""))
A11: =IF('Player Directory'!A10="","",'Player Directory'!A10) -> Anderson, Austin | B11: =IF(OR($A11="",B$3=""),"",IFERROR(INDEX('Add Players'!$C$6:$C$1505,MATCH(B$3&"|"&$A11,'Add Players'!$D$6:$D$1505,0)),"")) | C11: =IF(OR($A11="",C$3=""),"",IFERROR(INDEX('Add Players'!$C$6:$C$1505,MATCH(C$3&"|"&$A11,'Add Players'!$D$6:$D$1505,0)),"")) | D11: =IF(OR($A11="",D$3=""),"",IFERROR(INDEX('Add Players'!$C$6:$C$1505,MATCH(D$3&"|"&$A11,'Add Players'!$D$6:$D$1505,0)),"")) | E11: =IF(OR($A11="",E$3=""),"",IFERROR(INDEX('Add Players'!$C$6:$C$1505,MATCH(E$3&"|"&$A11,'Add Players'!$D$6:$D$1505,0)),"")) | F11: =IF(OR($A11="",F$3=""),"",IFERROR(INDEX('Add Players'!$C$6:$C$1505,MATCH(F$3&"|"&$A11,'Add Players'!$D$6:$D$1505,0)),"")) | G11: =IF(OR($A11="",G$3=""),"",IFERROR(INDEX('Add Players'!$C$6:$C$1505,MATCH(G$3&"|"&$A11,'Add Players'!$D$6:$D$1505,0)),"")) | H11: =IF(OR($A11="",H$3=""),"",IFERROR(INDEX('Add Players'!$C$6:$C$1505,MATCH(H$3&"|"&$A11,'Add Players'!$D$6:$D$1505,0)),"")) | I11: =IF(OR($A11="",I$3=""),"",IFERROR(INDEX('Add Players'!$C$6:$C$1505,MATCH(I$3&"|"&$A11,'Add Players'!$D$6:$D$1505,0)),"")) | ... AO11: =IF(OR($A11="",AO$3=""),"",IFERROR(INDEX('Add Players'!$C$6:$C$1505,MATCH(AO$3&"|"&$A11,'Add Players'!$D$6:$D$1505,0)),""))
A12: =IF('Player Directory'!A11="","",'Player Directory'!A11) -> Anderson, Gordie | B12: =IF(OR($A12="",B$3=""),"",IFERROR(INDEX('Add Players'!$C$6:$C$1505,MATCH(B$3&"|"&$A12,'Add Players'!$D$6:$D$1505,0)),"")) | C12: =IF(OR($A12="",C$3=""),"",IFERROR(INDEX('Add Players'!$C$6:$C$1505,MATCH(C$3&"|"&$A12,'Add Players'!$D$6:$D$1505,0)),"")) | D12: =IF(OR($A12="",D$3=""),"",IFERROR(INDEX('Add Players'!$C$6:$C$1505,MATCH(D$3&"|"&$A12,'Add Players'!$D$6:$D$1505,0)),"")) | E12: =IF(OR($A12="",E$3=""),"",IFERROR(INDEX('Add Players'!$C$6:$C$1505,MATCH(E$3&"|"&$A12,'Add Players'!$D$6:$D$1505,0)),"")) | F12: =IF(OR($A12="",F$3=""),"",IFERROR(INDEX('Add Players'!$C$6:$C$1505,MATCH(F$3&"|"&$A12,'Add Players'!$D$6:$D$1505,0)),"")) -> Woot | G12: =IF(OR($A12="",G$3=""),"",IFERROR(INDEX('Add Players'!$C$6:$C$1505,MATCH(G$3&"|"&$A12,'Add Players'!$D$6:$D$1505,0)),"")) | H12: =IF(OR($A12="",H$3=""),"",IFERROR(INDEX('Add Players'!$C$6:$C$1505,MATCH(H$3&"|"&$A12,'Add Players'!$D$6:$D$1505,0)),"")) | I12: =IF(OR($A12="",I$3=""),"",IFERROR(INDEX('Add Players'!$C$6:$C$1505,MATCH(I$3&"|"&$A12,'Add Players'!$D$6:$D$1505,0)),"")) -> Dakota | ... AO12: =IF(OR($A12="",AO$3=""),"",IFERROR(INDEX('Add Players'!$C$6:$C$1505,MATCH(AO$3&"|"&$A12,'Add Players'!$D$6:$D$1505,0)),""))
A13: =IF('Player Directory'!A12="","",'Player Directory'!A12) -> Anderson, Todd | B13: =IF(OR($A13="",B$3=""),"",IFERROR(INDEX('Add Players'!$C$6:$C$1505,MATCH(B$3&"|"&$A13,'Add Players'!$D$6:$D$1505,0)),"")) | C13: =IF(OR($A13="",C$3=""),"",IFERROR(INDEX('Add Players'!$C$6:$C$1505,MATCH(C$3&"|"&$A13,'Add Players'!$D$6:$D$1505,0)),"")) | D13: =IF(OR($A13="",D$3=""),"",IFERROR(INDEX('Add Players'!$C$6:$C$1505,MATCH(D$3&"|"&$A13,'Add Players'!$D$6:$D$1505,0)),"")) | E13: =IF(OR($A13="",E$3=""),"",IFERROR(INDEX('Add Players'!$C$6:$C$1505,MATCH(E$3&"|"&$A13,'Add Players'!$D$6:$D$1505,0)),"")) | F13: =IF(OR($A13="",F$3=""),"",IFERROR(INDEX('Add Players'!$C$6:$C$1505,MATCH(F$3&"|"&$A13,'Add Players'!$D$6:$D$1505,0)),"")) | G13: =IF(OR($A13="",G$3=""),"",IFERROR(INDEX('Add Players'!$C$6:$C$1505,MATCH(G$3&"|"&$A13,'Add Players'!$D$6:$D$1505,0)),"")) | H13: =IF(OR($A13="",H$3=""),"",IFERROR(INDEX('Add Players'!$C$6:$C$1505,MATCH(H$3&"|"&$A13,'Add Players'!$D$6:$D$1505,0)),"")) | I13: =IF(OR($A13="",I$3=""),"",IFERROR(INDEX('Add Players'!$C$6:$C$1505,MATCH(I$3&"|"&$A13,'Add Players'!$D$6:$D$1505,0)),"")) | ... AO13: =IF(OR($A13="",AO$3=""),"",IFERROR(INDEX('Add Players'!$C$6:$C$1505,MATCH(AO$3&"|"&$A13,'Add Players'!$D$6:$D$1505,0)),""))
A14: =IF('Player Directory'!A13="","",'Player Directory'!A13) -> Atwood, Tommy | B14: =IF(OR($A14="",B$3=""),"",IFERROR(INDEX('Add Players'!$C$6:$C$1505,MATCH(B$3&"|"&$A14,'Add Players'!$D$6:$D$1505,0)),"")) | C14: =IF(OR($A14="",C$3=""),"",IFERROR(INDEX('Add Players'!$C$6:$C$1505,MATCH(C$3&"|"&$A14,'Add Players'!$D$6:$D$1505,0)),"")) | D14: =IF(OR($A14="",D$3=""),"",IFERROR(INDEX('Add Players'!$C$6:$C$1505,MATCH(D$3&"|"&$A14,'Add Players'!$D$6:$D$1505,0)),"")) | E14: =IF(OR($A14="",E$3=""),"",IFERROR(INDEX('Add Players'!$C$6:$C$1505,MATCH(E$3&"|"&$A14,'Add Players'!$D$6:$D$1505,0)),"")) | F14: =IF(OR($A14="",F$3=""),"",IFERROR(INDEX('Add Players'!$C$6:$C$1505,MATCH(F$3&"|"&$A14,'Add Players'!$D$6:$D$1505,0)),"")) | G14: =IF(OR($A14="",G$3=""),"",IFERROR(INDEX('Add Players'!$C$6:$C$1505,MATCH(G$3&"|"&$A14,'Add Players'!$D$6:$D$1505,0)),"")) | H14: =IF(OR($A14="",H$3=""),"",IFERROR(INDEX('Add Players'!$C$6:$C$1505,MATCH(H$3&"|"&$A14,'Add Players'!$D$6:$D$1505,0)),"")) | I14: =IF(OR($A14="",I$3=""),"",IFERROR(INDEX('Add Players'!$C$6:$C$1505,MATCH(I$3&"|"&$A14,'Add Players'!$D$6:$D$1505,0)),"")) | ... AO14: =IF(OR($A14="",AO$3=""),"",IFERROR(INDEX('Add Players'!$C$6:$C$1505,MATCH(AO$3&"|"&$A14,'Add Players'!$D$6:$D$1505,0)),""))
A15: =IF('Player Directory'!A14="","",'Player Directory'!A14) -> Baker, Jon | B15: =IF(OR($A15="",B$3=""),"",IFERROR(INDEX('Add Players'!$C$6:$C$1505,MATCH(B$3&"|"&$A15,'Add Players'!$D$6:$D$1505,0)),"")) | C15: =IF(OR($A15="",C$3=""),"",IFERROR(INDEX('Add Players'!$C$6:$C$1505,MATCH(C$3&"|"&$A15,'Add Players'!$D$6:$D$1505,0)),"")) | D15: =IF(OR($A15="",D$3=""),"",IFERROR(INDEX('Add Players'!$C$6:$C$1505,MATCH(D$3&"|"&$A15,'Add Players'!$D$6:$D$1505,0)),"")) | E15: =IF(OR($A15="",E$3=""),"",IFERROR(INDEX('Add Players'!$C$6:$C$1505,MATCH(E$3&"|"&$A15,'Add Players'!$D$6:$D$1505,0)),"")) | F15: =IF(OR($A15="",F$3=""),"",IFERROR(INDEX('Add Players'!$C$6:$C$1505,MATCH(F$3&"|"&$A15,'Add Players'!$D$6:$D$1505,0)),"")) | G15: =IF(OR($A15="",G$3=""),"",IFERROR(INDEX('Add Players'!$C$6:$C$1505,MATCH(G$3&"|"&$A15,'Add Players'!$D$6:$D$1505,0)),"")) | H15: =IF(OR($A15="",H$3=""),"",IFERROR(INDEX('Add Players'!$C$6:$C$1505,MATCH(H$3&"|"&$A15,'Add Players'!$D$6:$D$1505,0)),"")) | I15: =IF(OR($A15="",I$3=""),"",IFERROR(INDEX('Add Players'!$C$6:$C$1505,MATCH(I$3&"|"&$A15,'Add Players'!$D$6:$D$1505,0)),"")) | ... AO15: =IF(OR($A15="",AO$3=""),"",IFERROR(INDEX('Add Players'!$C$6:$C$1505,MATCH(AO$3&"|"&$A15,'Add Players'!$D$6:$D$1505,0)),""))
A16: =IF('Player Directory'!A15="","",'Player Directory'!A15) -> Banas, Trevor (WIFC) | B16: =IF(OR($A16="",B$3=""),"",IFERROR(INDEX('Add Players'!$C$6:$C$1505,MATCH(B$3&"|"&$A16,'Add Players'!$D$6:$D$1505,0)),"")) | C16: =IF(OR($A16="",C$3=""),"",IFERROR(INDEX('Add Players'!$C$6:$C$1505,MATCH(C$3&"|"&$A16,'Add Players'!$D$6:$D$1505,0)),"")) | D16: =IF(OR($A16="",D$3=""),"",IFERROR(INDEX('Add Players'!$C$6:$C$1505,MATCH(D$3&"|"&$A16,'Add Players'!$D$6:$D$1505,0)),"")) | E16: =IF(OR($A16="",E$3=""),"",IFERROR(INDEX('Add Players'!$C$6:$C$1505,MATCH(E$3&"|"&$A16,'Add Players'!$D$6:$D$1505,0)),"")) | F16: =IF(OR($A16="",F$3=""),"",IFERROR(INDEX('Add Players'!$C$6:$C$1505,MATCH(F$3&"|"&$A16,'Add Players'!$D$6:$D$1505,0)),"")) | G16: =IF(OR($A16="",G$3=""),"",IFERROR(INDEX('Add Players'!$C$6:$C$1505,MATCH(G$3&"|"&$A16,'Add Players'!$D$6:$D$1505,0)),"")) | H16: =IF(OR($A16="",H$3=""),"",IFERROR(INDEX('Add Players'!$C$6:$C$1505,MATCH(H$3&"|"&$A16,'Add Players'!$D$6:$D$1505,0)),"")) | I16: =IF(OR($A16="",I$3=""),"",IFERROR(INDEX('Add Players'!$C$6:$C$1505,MATCH(I$3&"|"&$A16,'Add Players'!$D$6:$D$1505,0)),"")) | ... AO16: =IF(OR($A16="",AO$3=""),"",IFERROR(INDEX('Add Players'!$C$6:$C$1505,MATCH(AO$3&"|"&$A16,'Add Players'!$D$6:$D$1505,0)),""))
A17: =IF('Player Directory'!A16="","",'Player Directory'!A16) -> Barber, Ryker | B17: =IF(OR($A17="",B$3=""),"",IFERROR(INDEX('Add Players'!$C$6:$C$1505,MATCH(B$3&"|"&$A17,'Add Players'!$D$6:$D$1505,0)),"")) | C17: =IF(OR($A17="",C$3=""),"",IFERROR(INDEX('Add Players'!$C$6:$C$1505,MATCH(C$3&"|"&$A17,'Add Players'!$D$6:$D$1505,0)),"")) | D17: =IF(OR($A17="",D$3=""),"",IFERROR(INDEX('Add Players'!$C$6:$C$1505,MATCH(D$3&"|"&$A17,'Add Players'!$D$6:$D$1505,0)),"")) | E17: =IF(OR($A17="",E$3=""),"",IFERROR(INDEX('Add Players'!$C$6:$C$1505,MATCH(E$3&"|"&$A17,'Add Players'!$D$6:$D$1505,0)),"")) | F17: =IF(OR($A17="",F$3=""),"",IFERROR(INDEX('Add Players'!$C$6:$C$1505,MATCH(F$3&"|"&$A17,'Add Players'!$D$6:$D$1505,0)),"")) | G17: =IF(OR($A17="",G$3=""),"",IFERROR(INDEX('Add Players'!$C$6:$C$1505,MATCH(G$3&"|"&$A17,'Add Players'!$D$6:$D$1505,0)),"")) | H17: =IF(OR($A17="",H$3=""),"",IFERROR(INDEX('Add Players'!$C$6:$C$1505,MATCH(H$3&"|"&$A17,'Add Players'!$D$6:$D$1505,0)),"")) | I17: =IF(OR($A17="",I$3=""),"",IFERROR(INDEX('Add Players'!$C$6:$C$1505,MATCH(I$3&"|"&$A17,'Add Players'!$D$6:$D$1505,0)),"")) | ... AO17: =IF(OR($A17="",AO$3=""),"",IFERROR(INDEX('Add Players'!$C$6:$C$1505,MATCH(AO$3&"|"&$A17,'Add Players'!$D$6:$D$1505,0)),""))
A18: =IF('Player Directory'!A17="","",'Player Directory'!A17) -> Bartlett, Bob | B18: =IF(OR($A18="",B$3=""),"",IFERROR(INDEX('Add Players'!$C$6:$C$1505,MATCH(B$3&"|"&$A18,'Add Players'!$D$6:$D$1505,0)),"")) | C18: =IF(OR($A18="",C$3=""),"",IFERROR(INDEX('Add Players'!$C$6:$C$1505,MATCH(C$3&"|"&$A18,'Add Players'!$D$6:$D$1505,0)),"")) | D18: =IF(OR($A18="",D$3=""),"",IFERROR(INDEX('Add Players'!$C$6:$C$1505,MATCH(D$3&"|"&$A18,'Add Players'!$D$6:$D$1505,0)),"")) | E18: =IF(OR($A18="",E$3=""),"",IFERROR(INDEX('Add Players'!$C$6:$C$1505,MATCH(E$3&"|"&$A18,'Add Players'!$D$6:$D$1505,0)),"")) | F18: =IF(OR($A18="",F$3=""),"",IFERROR(INDEX('Add Players'!$C$6:$C$1505,MATCH(F$3&"|"&$A18,'Add Players'!$D$6:$D$1505,0)),"")) | G18: =IF(OR($A18="",G$3=""),"",IFERROR(INDEX('Add Players'!$C$6:$C$1505,MATCH(G$3&"|"&$A18,'Add Players'!$D$6:$D$1505,0)),"")) | H18: =IF(OR($A18="",H$3=""),"",IFERROR(INDEX('Add Players'!$C$6:$C$1505,MATCH(H$3&"|"&$A18,'Add Players'!$D$6:$D$1505,0)),"")) | I18: =IF(OR($A18="",I$3=""),"",IFERROR(INDEX('Add Players'!$C$6:$C$1505,MATCH(I$3&"|"&$A18,'Add Players'!$D$6:$D$1505,0)),"")) | ... AO18: =IF(OR($A18="",AO$3=""),"",IFERROR(INDEX('Add Players'!$C$6:$C$1505,MATCH(AO$3&"|"&$A18,'Add Players'!$D$6:$D$1505,0)),""))
... A256: =IF('Player Directory'!A255="","",'Player Directory'!A255) | B256: =IF(OR($A256="",B$3=""),"",IFERROR(INDEX('Add Players'!$C$6:$C$1505,MATCH(B$3&"|"&$A256,'Add Players'!$D$6:$D$1505,0)),"")) | C256: =IF(OR($A256="",C$3=""),"",IFERROR(INDEX('Add Players'!$C$6:$C$1505,MATCH(C$3&"|"&$A256,'Add Players'!$D$6:$D$1505,0)),"")) | D256: =IF(OR($A256="",D$3=""),"",IFERROR(INDEX('Add Players'!$C$6:$C$1505,MATCH(D$3&"|"&$A256,'Add Players'!$D$6:$D$1505,0)),"")) | E256: =IF(OR($A256="",E$3=""),"",IFERROR(INDEX('Add Players'!$C$6:$C$1505,MATCH(E$3&"|"&$A256,'Add Players'!$D$6:$D$1505,0)),"")) | F256: =IF(OR($A256="",F$3=""),"",IFERROR(INDEX('Add Players'!$C$6:$C$1505,MATCH(F$3&"|"&$A256,'Add Players'!$D$6:$D$1505,0)),"")) | G256: =IF(OR($A256="",G$3=""),"",IFERROR(INDEX('Add Players'!$C$6:$C$1505,MATCH(G$3&"|"&$A256,'Add Players'!$D$6:$D$1505,0)),"")) | H256: =IF(OR($A256="",H$3=""),"",IFERROR(INDEX('Add Players'!$C$6:$C$1505,MATCH(H$3&"|"&$A256,'Add Players'!$D$6:$D$1505,0)),"")) | I256: =IF(OR($A256="",I$3=""),"",IFERROR(INDEX('Add Players'!$C$6:$C$1505,MATCH(I$3&"|"&$A256,'Add Players'!$D$6:$D$1505,0)),"")) | ... AO256: =IF(OR($A256="",AO$3=""),"",IFERROR(INDEX('Add Players'!$C$6:$C$1505,MATCH(AO$3&"|"&$A256,'Add Players'!$D$6:$D$1505,0)),""))

Sheet Add Games
A2: ADD A GAME | B2: ADD A GAME | C2: ADD A GAME | D2: ADD A GAME | E2: ADD A GAME
A3: Four highlighted rows are reserved for games played before G001. Existing games and the Goalie Matrix shift forward automatically. | B3: Enter one new row per game. Use the next Game ID (G028, G029, etc.); the reports update automatically. | C3: Enter one new row per game. Use the next Game ID (G028, G029, etc.); the reports update automatically. | D3: Enter one new row per game. Use the next Game ID (G028, G029, etc.); the reports update automatically. | E3: Enter one new row per game. Use the next Game ID (G028, G029, etc.); the reports update automatically.
A5: Game ID | B5: Date | C5: Arena / Location | D5: Final Score | E5: Notes
A6: G001 | B6: 41685 | C6: Van Andel Arena | D6: MOS 8, Phantoms 6
A7: G002 | B7: 42077 | C7: Van Andel Arena | D7: Relay for Life 1, Phantoms 0
A8: G003 | B8: 42112 | C8: Van Andel Arena | D8: Phantoms 8, MOS 6
A9: G004 | B9: 42455 | C9: Van Andel Arena | D9: MOS 8, Phantoms 3
A10: G005 | B10: 42707.5 | C10: Joe Louis Arena | D10: PHA 6, Gong Show 4
A11: G006 | B11: 42854.5 | C11: Joe Louis Arena | D11: Black 5, Yellow 3
A12: G007 | B12: 43162.5 | C12: L.C. Walker Arena | D12: Black 4, Yellow 2
A13: G008 | B13: 43190.5 | C13: Wings Practice | D13: Yellow 7, Black 4
A14: G009 | B14: 43197.5 | C14: Wings Practice | D14: Black 6, Yellow 4
A15: G010 | B15: 43540.5 | C15: Walker Arena | D15: Black defeats Yellow
A16: G011 | B16: 43751.5 | C16: Little Caesars Arena | D16: Gray 7, Black 5
A17: G012 | B17: 43869.5 | C17: Wings Stadium | D17: Gray defeats Black
... A24: G019 | B24: 45003.5 | C24: Fifth Third Arena — Chicago | D24: Gray 4, Black 1
A25: G020 | B25: 45066.5 | C25: Yost Ice Arena | D25: Yellow 6, Black 5 (OT) | E25: Woot: 1st period Black, 2nd/3rd Yellow; Carron opposite
A26: G021 | B26: 45346.5 | C26: Dort Financial Center — Flint | D26: Gray 7, Black 6 | E26: Kaber (LLC)
A27: G022 | B27: 45353.5 | C27: Trinity Health Arena — Muskegon | D27: Gray 9, Black 4
A28: G023 | B28: 45388.5 | C28: Lawson Ice Arena | D28: Yellow 12, Black 9 | E28: Carron — Yellow; Woot — Black
A29: G024 | B29: 45605.5 | C29: Dow Event Center — Saginaw | D29: Black 8, Gray 5
A30: G025 | B30: 45696.5 | C30: UWM Panther Arena — Milwaukee | D30: Gray 10, Black 6
A31: G026 | B31: 45710.5 | C31: Huntington Center — Toledo | D31: Black 10, Yellow 9
A32: G027 | B32: 45738.5 | C32: Trinity Health Arena — Muskegon | D32: Black 9, Yellow 3
A33: G028 | B33: 45962.5 | C33: BMO Center — Rockford | D33: Gray 10, Black 7
A34: G029 | B34: 46060.5 | C34: Trinity Health Arena — Muskegon | D34: Gray 10, Black 6
A35: G030 | B35: 46081.5 | C35: WFCU Center — Windsor | D35: Gray 2, Black 7
A36: G031 | B36: 46116.5 | C36: Rocket Arena — Cleveland | D36: Black 10, Gray 7
A37: G032 | B37: 46305 | C37: USG Arena- Chicago | D37: Gray 8, Black 4

Sheet Add Players
A2: ADD PLAYERS TO A GAME | B2: ADD PLAYERS TO A GAME | C2: ADD PLAYERS TO A GAME | D2: ADD PLAYERS TO A GAME
A3: Add one row for every player who played. Pick the Game ID and player; enter the goalie code only when applicable. Column D fills itself. | B3: Add one row for every player who played. Pick the Game ID and player; enter the goalie code only when applicable. Column D fills itself. | C3: Add one row for every player who played. Pick the Game ID and player; enter the goalie code only when applicable. Column D fills itself. | D3: Add one row for every player who played. Pick the Game ID and player; enter the goalie code only when applicable. Column D fills itself.
A5: Game ID | B5: Player | C5: Goalie Selection | D5: Lookup Key — Auto
A6: G031 | B6: Alvarez, Ramsey (LLC) | C6: Swansegar | D6: =IF(OR(A6="",B6=""),"",A6&"|"&B6) -> G031|Alvarez, Ramsey (LLC)
A7: G031 | B7: Anderson, Austin | C7: Woot | D7: =IF(OR(A7="",B7=""),"",A7&"|"&B7) -> G031|Anderson, Austin
A8: G031 | B8: Barber, Ryker | C8: Swansegar | D8: =IF(OR(A8="",B8=""),"",A8&"|"&B8) -> G031|Barber, Ryker
A9: G031 | B9: Ciani, Nick | C9: Swansegar | D9: =IF(OR(A9="",B9=""),"",A9&"|"&B9) -> G031|Ciani, Nick
A10: G031 | B10: Dewitt, Ben | C10: Woot | D10: =IF(OR(A10="",B10=""),"",A10&"|"&B10) -> G031|Dewitt, Ben
A11: G031 | B11: Dewitt, Steve | C11: Woot | D11: =IF(OR(A11="",B11=""),"",A11&"|"&B11) -> G031|Dewitt, Steve
A12: G031 | B12: Deininger, Luke | C12: Woot | D12: =IF(OR(A12="",B12=""),"",A12&"|"&B12) -> G031|Deininger, Luke
A13: G031 | B13: Evans, Marshal | C13: Woot | D13: =IF(OR(A13="",B13=""),"",A13&"|"&B13) -> G031|Evans, Marshal
A14: G031 | B14: Fosnot, Matt (MBLH) | C14: Swansegar | D14: =IF(OR(A14="",B14=""),"",A14&"|"&B14) -> G031|Fosnot, Matt (MBLH)
A15: G031 | B15: Haase, Gavin | C15: Swansegar | D15: =IF(OR(A15="",B15=""),"",A15&"|"&B15) -> G031|Haase, Gavin
A16: G031 | B16: Hart, Kevin (Inwood) | C16: Woot | D16: =IF(OR(A16="",B16=""),"",A16&"|"&B16) -> G031|Hart, Kevin (Inwood)
A17: G031 | B17: Huene, Nathan | C17: Swansegar | D17: =IF(OR(A17="",B17=""),"",A17&"|"&B17) -> G031|Huene, Nathan
... A808: G032 | B808: Wootton, Kevin | C808: Woot | D808: =IF(OR(A808="",B808=""),"",A808&"|"&B808) -> G032|Wootton, Kevin
D809: =IF(OR(A809="",B809=""),"",A809&"|"&B809)
D810: =IF(OR(A810="",B810=""),"",A810&"|"&B810)
D811: =IF(OR(A811="",B811=""),"",A811&"|"&B811)
D812: =IF(OR(A812="",B812=""),"",A812&"|"&B812)
D813: =IF(OR(A813="",B813=""),"",A813&"|"&B813)
D814: =IF(OR(A814="",B814=""),"",A814&"|"&B814)
D815: =IF(OR(A815="",B815=""),"",A815&"|"&B815)
D816: =IF(OR(A816="",B816=""),"",A816&"|"&B816)
D817: =IF(OR(A817="",B817=""),"",A817&"|"&B817)
D818: =IF(OR(A818="",B818=""),"",A818&"|"&B818)
D819: =IF(OR(A819="",B819=""),"",A819&"|"&B819)
D820: =IF(OR(A820="",B820=""),"",A820&"|"&B820)
... D1505: =IF(OR(A1505="",B1505=""),"",A1505&"|"&B1505)

Sheet Player Directory
A2: PLAYER DIRECTORY | B2: PLAYER DIRECTORY | C2: PLAYER DIRECTORY | D2: PLAYER DIRECTORY | E2: PLAYER DIRECTORY
A3: Add each new player once in the first blank row. The name immediately appears on the Goalie Matrix; use the column filter to Sort A to Z after adding names. | B3: Add each new player once in column A. The name will then appear in the Add Players dropdown and on the all-time reports. | C3: Add each new player once in column A. The name will then appear in the Add Players dropdown and on the all-time reports. | D3: Add each new player once in column A. The name will then appear in the Add Players dropdown and on the all-time reports. | E3: Add each new player once in column A. The name will then appear in the Add Players dropdown and on the all-time reports.
A5: Player Directory | D5: Goalie Code | E5: Full Goalie Name
A6: Addante, Jason (CHI) | D6: Woot | E6: Kevin Wootton
A7: Allard, Kyle | D7: Endres | E7: Mike Endres
A8: Allendorf, Jay (Inwood) | D8: Carron | E8: Kevin Carron
A9: Alvarez, Ramsey (LLC) | D9: Oostra | E9: Nick Oostra
A10: Anderson, Austin | D10: Delaney | E10: Dennis Delaney
A11: Anderson, Gordie | D11: Bradford | E11: Scott Bradford
A12: Anderson, Todd | D12: Kaber | E12: Josh Kaber
A13: Atwood, Tommy | D13: Gilgan | E13: Ken Gilgan
A14: Baker, Jon | D14: Swansegar | E14: Kyle Swansegar
A15: Banas, Trevor (WIFC) | D15: Orth | E15: Chris Orth
A16: Barber, Ryker
A17: Bartlett, Bob
A18: Benedict, Chris
A19: Bessey, Brennen
A20: Blankenship, Brock
A21: Blok, Jake
A22: Bowman, Mike
A23: Bradford, Scott
A24: Braymer, Ben
A25: Breuker, Chris
A26: Bruder, Chad
A27: Buchinger, Pete
... A225: Zehr, Matt
